BEGIN:VCALENDAR
VERSION:2.0
PRODID:-//ChamberMaster//Event Calendar 2.0//EN
METHOD:PUBLISH
X-PUBLISHED-TTL:P3D
REFRESH-INTERVAL:P3D
CALSCALE:GREGORIAN
BEGIN:VEVENT
DTSTART:20180615T130000Z
DTEND:20180615T140000Z
X-MICROSOFT-CDO-ALLDAYEVENT:FALSE
SUMMARY:2018 Federal Legislative Briefing
DESCRIPTION:The Independence Chamber and Blue Springs Chamber of Commerce will hold a joint Federal Legislative Briefing
X-ALT-DESC;FMTTYPE=text/html:The Independence Chamber and Blue Springs Chamber of Commerce will hold a joint Federal Legislative Briefing
LOCATION:Blue Ridge Bank and Trust 4200 Little Blue Pkwy Independence\, MO 64057
UID:e.2043.5485
SEQUENCE:3
DTSTAMP:20260424T080052Z
URL:https://business.ichamber.biz/events/details/2018-federal-legislative-briefing-06-15-2018-5485
END:VEVENT

END:VCALENDAR
