BEGIN:VCALENDAR
VERSION:2.0
PRODID:-//ChamberMaster//Event Calendar 2.0//EN
METHOD:PUBLISH
X-PUBLISHED-TTL:P3D
REFRESH-INTERVAL:P3D
CALSCALE:GREGORIAN
BEGIN:VEVENT
DTSTART:20180328T163000Z
DTEND:20180328T200000Z
X-MICROSOFT-CDO-ALLDAYEVENT:FALSE
SUMMARY:2018 Job Fair
DESCRIPTION:The Metropolitan Community College - Blue River\, Independence Economic Development Council and Independence Chamber of Commerce invite you to participate in the 2018 Job Fair.\n\n\nEmployers\, are you looking to hire?\nThis is an opportunity for you to showcase and fill temporary\, full-time or intern positions that are available in your organization.  Meet the person behind the resume and find the best fit for your company.  \n\nRegistration deadline - March 14\, 2018\n\n\n\nSeeking employment?\nThis is a great opportunity you won't want to miss!  Connect and get your resume in front of local employers looking for individuals to join their team.  Jobs for every skill level.  Over 50 employers in one location.  Open to the public.  FREE admission and FREE parking.
X-ALT-DESC;FMTTYPE=text/html:<a href="http://www.mcckc.edu/blueriver">The Metropolitan Community College - Blue River</a>\, <a href="https://www.inedc.biz/">Independence Economic Development Council</a> and <a href="http://ichamber.biz">Independence Chamber of Commerce</a> invite you to participate in the 2018 Job Fair.\n<h3><br />\n<span style="font-size:20px\;"><span style="color:#7db067\;"><strong>Employers\, are you looking to hire?</strong></span></span></h3>\n<span style="font-size:16px\;">This is an opportunity for you to showcase and fill temporary\, full-time or intern positions that are available in your organization.&nbsp\; Meet the person behind the resume and find the best fit for your company.&nbsp\;&nbsp\;<br />\n<strong>Registration deadline - March 14\, 2018</strong></span>\n\n<h3><br />\n<span style="font-size:20px\;"><span style="color:#7db067\;"><strong>Seeking employment?</strong></span></span></h3>\n<span style="font-size:16px\;">This is a great opportunity you won&#39\;t want to miss!&nbsp\; Connect and get your resume in front of local employers looking for individuals to join their team.&nbsp\; Jobs for every skill level.&nbsp\; Over 50 employers in one location.&nbsp\; Open to the public.&nbsp\; FREE admission and FREE parking.&nbsp\; &nbsp\;&nbsp\;</span><br />\n&nbsp\;
LOCATION:MCC-Blue River Campus Gym (Arts & Science Building) 20301 E 78 Hwy Independence\, MO 64055
UID:e.2043.6187
SEQUENCE:3
DTSTAMP:20260424T045052Z
URL:https://business.ichamber.biz/events/details/2018-job-fair-03-28-2018-6187
END:VEVENT

END:VCALENDAR
