BEGIN:VCALENDAR
VERSION:2.0
PRODID:-//ChamberMaster//Event Calendar 2.0//EN
METHOD:PUBLISH
X-PUBLISHED-TTL:P3D
REFRESH-INTERVAL:P3D
CALSCALE:GREGORIAN
BEGIN:VEVENT
DTSTART:20190614T130000Z
DTEND:20190614T143000Z
X-MICROSOFT-CDO-ALLDAYEVENT:FALSE
SUMMARY:2019 Federal Legislative Briefing
DESCRIPTION:The Independence Chamber of Commerce and Blue Springs Chamber of Commerce will hold a joint Federal Legislative Briefing hosting elected officials who work on the national stage. Join us to hear what they have been working on and to ask them questions!
X-ALT-DESC;FMTTYPE=text/html:The Independence Chamber of Commerce and Blue Springs Chamber of Commerce will hold a joint Federal Legislative Briefing hosting elected officials who work on the national stage. Join us to hear what they have been working on and to ask them questions!&nbsp\;
LOCATION:Blue Ridge Bank and Trust 4200 Little Blue Pkwy Independence\, MO 64057
UID:e.2043.8355
SEQUENCE:3
DTSTAMP:20260424T235109Z
URL:https://business.ichamber.biz/events/details/2019-federal-legislative-briefing-8355
END:VEVENT

END:VCALENDAR
