BEGIN:VCALENDAR
VERSION:2.0
PRODID:-//ChamberMaster//Event Calendar 2.0//EN
METHOD:PUBLISH
X-PUBLISHED-TTL:P3D
REFRESH-INTERVAL:P3D
CALSCALE:GREGORIAN
BEGIN:VEVENT
DTSTART:20191004T160000Z
DTEND:20191004T210000Z
X-MICROSOFT-CDO-ALLDAYEVENT:FALSE
SUMMARY:2019 Job Fair
DESCRIPTION:The Independence Chamber of Commerce\, the Independence Economic Development Council and the Independence Center invite you to participate in the 2019 Job Fair. \n\nThis is an opportunity for you to showcase and fill temporary\, full-time or intern positions available in your organization. Meet the person behind the resume and find the best fit for your company.\n\nRegistration deadline   September 27\, 2019\n\n\n\n\n\n\n\n\nFEE:\n\n\n\n\n\n\n$100/Registration (Reserve by September 27th   Space limited)\n\nRegistration includes:\n\n\n	 8-foot Table & Tablecloth\n	 2   Chairs\n	Electric (if needed)\n	Setup will begin at 9:00 AM & needs to be completed by 10:30 AM\n\n\n\n\n\nPARTICIPATING BUSINESSES:\n\n\n	\n		\n	\n	\n		\n			Avila University\n		\n		\n			Blue Ridge Bank and Trust Co\n\n			\n\n			Boys & Girls Club of Greater Kansas City\n		\n		\n			Carvana\n		\n		\n			Center for Developmentally Disabled\n		\n		\n			Comprehensive Mental Health Services\n		\n		\n			Gamestop\n\n			\n\n			Helzberg\n		\n		\n			Heartland Sheets LLC\n		\n		\n			Holiday Inn Express & Suites\n		\n		\n			Independence School District\n\n			\n\n			John Knox Village\n\n			\n\n			Kay Jewelers\n		\n		\n			Landmark Event Staffing Services\n		\n		\n			MidAmerica Nazarene University\n		\n		\n			Missouri State Highway Patrol\n\n			\n\n			Ottawa University\n		\n		\n			PAE\n		\n		\n			Petland\n		\n		\n			Phoenix Home Care and Hospice\n		\n		\n			Primerica\n		\n		\n			Redwood of Independence\n		\n		\n			Saint Luke's Health System\n		\n		\n			SP PLUS\n		\n		\n			The Arc of the Ozarks\n		\n		\n			TNC Community\n\n			\n\n			Topsy's \n		\n		\n			Villages of Jackson Creek\n		\n		\n			Walmart\n\n			\n\n			Windsor
X-ALT-DESC;FMTTYPE=text/html:<div class="elementor-element elementor-element-d4bb068 elementor-widget elementor-widget-text-editor" data-element_type="widget" data-id="d4bb068" data-widget_type="text-editor.default" font-size:="" margin-bottom:="" none="" open="" outline:="" style="box-sizing: border-box\; position: relative\; font-family: " width:="">\n<div class="elementor-widget-container" style="box-sizing: border-box\; outline: none !important\; transition: background 0.3s ease 0s\, border 0.3s ease 0s\, border-radius 0.3s ease 0s\, box-shadow 0.3s ease 0s\, -webkit-border-radius 0.3s ease 0s\, -webkit-box-shadow 0.3s ease 0s\;">\n<div class="elementor-text-editor elementor-clearfix" style="box-sizing: border-box\; outline: none !important\;">\n<p style="box-sizing: border-box\; outline: none !important\; margin: 0px 0px 10px\;">The Independence Chamber of Commerce\, the Independence Economic Development Council and the Independence Center invite you to participate in the 2019 Job Fair.&nbsp\;</p>\n\n<p style="box-sizing: border-box\; outline: none !important\; margin: 0px 0px 10px\;">This is an opportunity for you to showcase and fill temporary\, full-time or intern positions available in your organization. Meet the person behind the resume and find the best fit for your company.</p>\n\n<p style="box-sizing: border-box\; outline: none !important\; margin: 0px 0px 10px\;"><span style="box-sizing: border-box\; outline: none !important\; font-weight: 700\;">Registration deadline &ndash\; September 27\, 2019</span></p>\n</div>\n</div>\n</div>\n\n<div class="elementor-element elementor-element-e60c171 elementor-widget elementor-widget-heading" data-element_type="widget" data-id="e60c171" data-widget_type="heading.default" font-size:="" none="" open="" outline:="" style="box-sizing: border-box\; position: relative\; width: 550px\; margin-bottom: 10px\; font-family: ">\n<div class="elementor-widget-container" style="box-sizing: border-box\; outline: none !important\; transition: background 0.3s ease 0s\, border 0.3s ease 0s\, border-radius 0.3s ease 0s\, box-shadow 0.3s ease 0s\, -webkit-border-radius 0.3s ease 0s\, -webkit-box-shadow 0.3s ease 0s\;">\n<h2 0.24s="" class="elementor-heading-title elementor-size-default" color:="" ease-in-out="" font-size:="" font-weight:="" line-height:="" margin:="" none="" opacity="" opacity:="" open="" outline:="" padding:="" style="box-sizing: border-box\; font-family: " transition:="" visibility:=""><br />\n<span style="box-sizing: border-box\; outline: none !important\; font-weight: 700\;">FEE:</span></h2>\n</div>\n</div>\n\n<div class="elementor-element elementor-element-3a9cae7 elementor-widget elementor-widget-text-editor" data-element_type="widget" data-id="3a9cae7" data-widget_type="text-editor.default" font-size:="" margin-bottom:="" none="" open="" outline:="" style="box-sizing: border-box\; position: relative\; font-family: " width:="">\n<div class="elementor-widget-container" style="box-sizing: border-box\; outline: none !important\; transition: background 0.3s ease 0s\, border 0.3s ease 0s\, border-radius 0.3s ease 0s\, box-shadow 0.3s ease 0s\, -webkit-border-radius 0.3s ease 0s\, -webkit-box-shadow 0.3s ease 0s\;">\n<div class="elementor-text-editor elementor-clearfix" style="box-sizing: border-box\; outline: none !important\;">\n<p style="box-sizing: border-box\; outline: none !important\; margin: 0px 0px 10px\;">$100/Registration<span style="box-sizing: border-box\; outline: none !important\; font-weight: 700\;">&nbsp\;(Reserve by September 27th &ndash\; Space limited)</span></p>\n\n<p style="box-sizing: border-box\; outline: none !important\; margin: 0px 0px 10px\;">Registration includes:</p>\n\n<ul style="box-sizing: border-box\; outline: none !important\; margin-top: 0px\; margin-bottom: 10px\;">\n	<li style="box-sizing: border-box\; outline: none !important\;">&nbsp\;8-foot Table &amp\; Tablecloth</li>\n	<li style="box-sizing: border-box\; outline: none !important\;">&nbsp\;2 &ndash\; Chairs</li>\n	<li style="box-sizing: border-box\; outline: none !important\;">Electric (if needed)</li>\n	<li style="box-sizing: border-box\; outline: none !important\;">Setup will begin at 9:00 AM &amp\; needs to be completed by 10:30 AM</li>\n</ul>\n\n<div style="box-sizing: border-box\; outline: none !important\;">\n<h2 0.24s="" class="elementor-heading-title elementor-size-default" color:="" ease-in-out="" font-size:="" font-weight:="" line-height:="" margin:="" none="" opacity="" opacity:="" open="" outline:="" padding:="" style="box-sizing: border-box\;" transition:="" visibility:=""><br />\n<span style="box-sizing: border-box\; font-weight: 700\; outline: none !important\;">PARTICIPATING BUSINESSES:</span></h2>\n\n<table border="0" cellpadding="0" cellspacing="0" style="border-collapse:collapse\;width:275px\;" width="274">\n	<colgroup>\n		<col style="width:275px\;" />\n	</colgroup>\n	<tbody>\n		<tr height="20" style="height:20px\;">\n			<td height="20" style="height:20px\;width:275px\;"><a href="https://www.avila.edu/">Avila University</a></td>\n		</tr>\n		<tr height="20" style="height:20px\;">\n			<td height="20" style="height:20px\;"><a href="https://www.blueridgebank.com/">Blue Ridge Bank and Trust Co</a><br />\n			<br />\n			<a href="https://bgc-gkc.org/">Boys &amp\; Girls Club of Greater Kansas City</a></td>\n		</tr>\n		<tr height="20" style="height:20px\;">\n			<td height="20" style="height:20px\;"><a href="https://www.carvana.com">Carvana</a></td>\n		</tr>\n		<tr height="20" style="height:20px\;">\n			<td height="20" style="height:20px\;"><a href="https://www.cddkc.org/">Center for Developmentally Disabled</a></td>\n		</tr>\n		<tr height="20" style="height:20px\;">\n			<td height="20" style="height:20px\;"><a href="https://thecmhs.com/">Comprehensive Mental Health Services</a></td>\n		</tr>\n		<tr height="20" style="height:20px\;">\n			<td height="20" style="height:20px\;"><a href="http://www.gamestop.com">Gamestop</a><br />\n			<br />\n			<a href="https://www.helzberg.com/">Helzberg</a></td>\n		</tr>\n		<tr height="20" style="height:20px\;">\n			<td height="20" style="height:20px\;"><a href="http://www.heartlandsheets.com/">Heartland Sheets LLC</a></td>\n		</tr>\n		<tr height="20" style="height:20px\;">\n			<td height="20" style="height:20px\;"><a href="https://www.ihg.com/holidayinnexpress/hotels/us/en/reservation">Holiday Inn Express &amp\; Suites</a></td>\n		</tr>\n		<tr height="20" style="height:20px\;">\n			<td height="20" style="height:20px\;"><a href="https://www.isdschools.org">Independence School District</a><br />\n			<br />\n			<a href="https://www.jkv.org/">John Knox Village</a><br />\n			<br />\n			<a href="https://www.kay.com/">Kay Jewelers</a></td>\n		</tr>\n		<tr height="20" style="height:20px\;">\n			<td height="20" style="height:20px\;"><a href="http://landmarkeventstaff.com/">Landmark Event Staffing Services</a></td>\n		</tr>\n		<tr height="20" style="height:20px\;">\n			<td height="20" style="height:20px\;"><a href="https://www.mnu.edu/">MidAmerica Nazarene University</a></td>\n		</tr>\n		<tr height="20" style="height:20px\;">\n			<td height="20" style="height:20px\;"><a href="https://www.mshp.dps.missouri.gov/MSHPWeb/Root/index.html">Missouri State Highway Patrol</a><br />\n			<br />\n			<a href="https://www.ottawa.edu/home/">Ottawa University</a></td>\n		</tr>\n		<tr height="20" style="height:20px\;">\n			<td height="20" style="height:20px\;"><a href="https://www.pae.com/">PAE</a></td>\n		</tr>\n		<tr height="20" style="height:20px\;">\n			<td height="20" style="height:20px\;"><a href="https://www.petland.com/">Petland</a></td>\n		</tr>\n		<tr height="20" style="height:20px\;">\n			<td height="20" style="height:20px\;"><a href="https://phoenixhomehc.com/">Phoenix Home Care and Hospice</a></td>\n		</tr>\n		<tr height="20" style="height:20px\;">\n			<td height="20" style="height:20px\;"><a href="http://www.primerica.com/public/">Primerica</a></td>\n		</tr>\n		<tr height="20" style="height:20px\;">\n			<td height="20" style="height:20px\;"><a href="http://www.independencenursingandrehab.com/">Redwood of Independence</a></td>\n		</tr>\n		<tr height="20" style="height:20px\;">\n			<td height="20" style="height:20px\;"><a href="https://www.saintlukeskc.org/">Saint Luke&#39\;s Health System</a></td>\n		</tr>\n		<tr height="20" style="height:20px\;">\n			<td height="20" style="height:20px\;"><a href="https://www.spplus.com/">SP PLUS</a></td>\n		</tr>\n		<tr height="20" style="height:20px\;">\n			<td height="20" style="height:20px\;"><a href="http://www.thearcoftheozarks.org/">The Arc of the Ozarks</a></td>\n		</tr>\n		<tr height="20" style="height:20px\;">\n			<td height="20" style="height:20px\;"><a href="https://www.tnccommunity.org/">TNC Community</a><br />\n			<br />\n			<a href="https://www.topsyspopcorn.com/">Topsy&#39\;s</a>&nbsp\;</td>\n		</tr>\n		<tr height="20" style="height:20px\;">\n			<td height="20" style="height:20px\;"><a href="https://nhccare.com/locations/villages-jackson-creek/">Villages of Jackson Creek</a></td>\n		</tr>\n		<tr height="20" style="height:20px\;">\n			<td height="20" style="height:20px\;"><a href="https://www.walmart.com/">Walmart</a><br />\n			<br />\n			<a href="https://www.windsorstore.com/">Windsor</a></td>\n		</tr>\n	</tbody>\n</table>\n</div>\n</div>\n</div>\n</div>\n
LOCATION:Independence Center
UID:e.2043.9738
SEQUENCE:3
DTSTAMP:20260425T040054Z
URL:https://business.ichamber.biz/events/details/2019-job-fair-9738
END:VEVENT

END:VCALENDAR
