BEGIN:VCALENDAR
VERSION:2.0
PRODID:-//ChamberMaster//Event Calendar 2.0//EN
METHOD:PUBLISH
X-PUBLISHED-TTL:P3D
REFRESH-INTERVAL:P3D
CALSCALE:GREGORIAN
BEGIN:VEVENT
DTSTART:20190520T210000Z
DTEND:20190520T220000Z
X-MICROSOFT-CDO-ALLDAYEVENT:FALSE
SUMMARY:2020 Banquet Committee Meeting
DESCRIPTION:This commmittee has been created to assist in planning and organizing the 2020 Annual Banquet. Please contact Morgan or Sarah Beth if you are interested in getting involved!
X-ALT-DESC;FMTTYPE=text/html:This commmittee has been created to assist in planning and organizing the 2020 Annual Banquet. Please contact Morgan or Sarah Beth if you are interested in getting involved!
LOCATION:
UID:e.2043.9504
SEQUENCE:3
DTSTAMP:20260424T223955Z
URL:https://business.ichamber.biz/events/details/2020-banquet-committee-meeting-9504
END:VEVENT

END:VCALENDAR
