BEGIN:VCALENDAR
VERSION:2.0
PRODID:-//ChamberMaster//Event Calendar 2.0//EN
METHOD:PUBLISH
X-PUBLISHED-TTL:P3D
REFRESH-INTERVAL:P3D
CALSCALE:GREGORIAN
BEGIN:VEVENT
DTSTART:20180503T230000Z
DTEND:20180504T010000Z
X-MICROSOFT-CDO-ALLDAYEVENT:FALSE
SUMMARY:2nd Annual ISD Academy Awards
DESCRIPTION:Join us for the 2nd Annual Independence School District Academy Awards.\n\n\n\nThis will be a very special event\, a celebration to recognize our Industry Partners\, Students\, and Teachers\, for the success of the Academies.\n\n*Dinner provided \n\n\n\nFormal Attire Requested (Coat & Tie)\n\n\n\nSponsorship Opportunities\n\n \n\nPresenting Sponsor\n\n$500\n\n	8 seats at the dinner \n	Logo in program\n	Name Recognition during dinner\n\nPlatinum Sponsor\n\n$250\n\n	 4 seats at the dinner \n	Logo in program\n	Name Recognition in program\n\nGold Sponsor\n\n$100\n\n	2 seats at the dinner \n	Name in program
X-ALT-DESC;FMTTYPE=text/html:Join us for the 2nd Annual Independence School District Academy Awards.<br>\n<br>\nThis will be a very special event\, a celebration to recognize our Industry Partners\, Students\, and Teachers\, for the success of the Academies.<br>\n*Dinner provided&nbsp\;<br>\n<br>\nFormal Attire Requested (Coat &amp\; Tie)<br>\n<br>\nSponsorship Opportunities<br>\n&#8203\;<br>\n<u><strong>Presenting Sponsor</strong></u><br>\n$500\n<ul>\n	<li>8 seats at the dinner&nbsp\;</li>\n	<li>Logo in program</li>\n	<li>Name Recognition during dinner</li>\n</ul>\n<u><strong>Platinum Sponsor</strong></u><br>\n$250\n<ul>\n	<li>&#8203\;4 seats at the dinner&nbsp\;</li>\n	<li>Logo in program</li>\n	<li>Name Recognition in program</li>\n</ul>\n<u><strong>Gold Sponsor</strong></u><br>\n$100\n<ul>\n	<li>2 seats at the dinner&nbsp\;</li>\n	<li>Name in program&nbsp\;</li>\n</ul>\n<br>\n&nbsp\;
LOCATION:Hilton Garden Inn 19677 E Jackson Dr\, Independence\, MO 64057
UID:e.2043.6252
SEQUENCE:3
DTSTAMP:20260424T065620Z
URL:https://business.ichamber.biz/events/details/2nd-annual-isd-academy-awards-6252
END:VEVENT

END:VCALENDAR
