BEGIN:VCALENDAR
VERSION:2.0
PRODID:-//ChamberMaster//Event Calendar 2.0//EN
METHOD:PUBLISH
X-PUBLISHED-TTL:P3D
REFRESH-INTERVAL:P3D
CALSCALE:GREGORIAN
BEGIN:VEVENT
DTSTART:20171028T150000Z
DTEND:20171028T163000Z
X-MICROSOFT-CDO-ALLDAYEVENT:FALSE
SUMMARY:69th Annual Halloween Parade
DESCRIPTION:Looking for a fun way to promote your business and bond with your staff in a fun way? By participating in the 69th Annual Halloween Parade you can you showcase your business or non-profit while people stand and sit on both sides of the road watching you participate in the parade. Talk about GREAT ADVERTISEMENT!\n\n\n\nThe Independence Chamber of Commerce holds an annual Halloween Parade on the Historic Independence Square.  The Halloween Parade consists of local businesses\, organizations\, and community leaders. \n\n\n\nWould you like to be in the parade?  Please fill out the 2017 Halloween Parade Application and review the Rules & Regulations below:\n\n\n\n2017 Halloween Parade Application/ Rules & Regulations  \n\n\n\nNot interested in being in the parade\, but still want to be part of the fun? \n\nClick here to volunteer!
X-ALT-DESC;FMTTYPE=text/html:<div><span style="background-image:initial\;background-position:initial\;background-size:initial\;background-repeat:initial\;background-attachment:initial\;background-origin:initial\;background-clip:initial\;"><span style="color:#1d2129\;"><span style="font-family:century gothic\,sans-serif\;"><span style="font-size:12pt\;"><span style="font-size:14px\;"><span style="font-family:arial\;">Looking for a fun way to promote your business and bond with your staff in a fun way? By participating in the 69<sup>th</sup> Annual Halloween Parade you can you showcase your business or non-profit while people stand and sit on both sides of the road watching you participate in the parade. Talk about GREAT ADVERTISEMENT!</span></span></span></span></span></span><br />\n<br />\n<span style="font-family: Arial\, Helvetica\, sans-serif\; font-size: 14px\;">The Independence Chamber of Commerce holds an annual Halloween Parade on the Historic Independence Square.&nbsp\; The Halloween Parade consists of local businesses\, organizations\, and community leaders.&nbsp\;</span><br />\n<br />\n<span style="line-height: 18px\; font-family: Arial\, Helvetica\, sans-serif\; font-size: 14px\;">Would you like to be in the parade? &nbsp\;Please fill out the 2017&nbsp\;Halloween Parade Application and review the Rules &amp\; Regulations below:</span><br />\n<br />\n<span style="font-size: 14px\;"><a href="https://chambermaster.blob.core.windows.net/userfiles/UserFiles/chambers/2043/File/2017HalloweenParadeApplication.pdf">2017 Halloween Parade Application/ Rules &amp\; Regulations </a> </span><br />\n<br />\n<span style="font-size: 14px\;"><strong font-size:="" trebuchet="">Not interested in being in the parade\, but still want to be part of the fun?</strong></span><span style="font-size: 18px\;"><strong font-size:="" trebuchet=""><span style="color: rgb(0\, 128\, 0)\;">&nbsp\;</span></strong><br />\n<strong font-size:="" trebuchet=""><span style="color: rgb(0\, 128\, 0)\;"><a href="http://business.ichamber.biz/form/view/10521">Click here to volunteer!</a></span></strong></span></div>\n<br />\n<br />\n&nbsp\;
LOCATION:Historic Independence Square Click here for 2017 Parade Route
UID:e.2043.4982
SEQUENCE:3
DTSTAMP:20260424T081740Z
URL:https://business.ichamber.biz/events/details/69th-annual-halloween-parade-4982
END:VEVENT

END:VCALENDAR
