BEGIN:VCALENDAR
VERSION:2.0
PRODID:-//ChamberMaster//Event Calendar 2.0//EN
METHOD:PUBLISH
X-PUBLISHED-TTL:P3D
REFRESH-INTERVAL:P3D
CALSCALE:GREGORIAN
BEGIN:VEVENT
DTSTART:20180607T163000Z
DTEND:20180607T183000Z
X-MICROSOFT-CDO-ALLDAYEVENT:FALSE
SUMMARY:6th Annual Chamber Picnic on the Lawn
DESCRIPTION:Join your fellow Chamber Members for our Member Appreciation Day!\n\nFree food\, and a great time will be had!
X-ALT-DESC;FMTTYPE=text/html:Join your fellow Chamber Members for our Member Appreciation Day!<br />\nFree food\, and a great time will be had!
LOCATION:Independence Chamber of Commerce Lawn 210 W Truman Rd Independence\, MO 64050
UID:e.2043.5306
SEQUENCE:3
DTSTAMP:20260424T084343Z
URL:https://business.ichamber.biz/events/details/6th-annual-chamber-picnic-on-the-lawn-06-07-2018-5306
END:VEVENT

END:VCALENDAR
