BEGIN:VCALENDAR
VERSION:2.0
PRODID:-//ChamberMaster//Event Calendar 2.0//EN
METHOD:PUBLISH
X-PUBLISHED-TTL:P3D
REFRESH-INTERVAL:P3D
CALSCALE:GREGORIAN
BEGIN:VEVENT
DTSTART:20181027T150000Z
DTEND:20181027T163000Z
X-MICROSOFT-CDO-ALLDAYEVENT:FALSE
SUMMARY:70th Annual Halloween Parade
DESCRIPTION:Looking for a fun way to promote your business and bond with your staff in a fun way? By participating in the 70th Annual Halloween Parade you can you showcase your business or non-profit while people stand and sit on both sides of the road watching you participate in the parade. Talk about GREAT ADVERTISEMENT!\n\n\n\nThe Independence Chamber of Commerce holds an annual Halloween Parade on the Historic Independence Square.  The Halloween Parade consists of local businesses\, organizations\, and community leaders. \n\n\n\nWould you like to be in the parade?  Please fill out the 2018 Halloween Parade Application and review the Rules & Regulations below:\n\n\n\n2018 Halloween Parade Application/ Rules & Regulations \n\n\n\n2018 Parade Route  \n\n \n\n\n\nSponsorship Opportunities\n\nPresenting Sponsor - SOLD\n\n\n	\n	A float in the Halloween Parade (It's a fun way to promote your business and bond with your staff in a fun way. By participating in the parade\, you can you showcase your business while people stand and sit on both sides of the road watching you participate in the parade. Talk about GREAT ADVERTISEMENT)! - Optional\n	\n	\n	The Chamber will advertise the event to the membership through the quarterly Newsletter\, email blast to all members\, Chamber?s website and announced at prior networking events\n	\n	\n	After the event\, a photograph will be placed in The Newsletter\, eblast to all members\, and submitted to local media\n	\n	\n	Logo recognition on website\n	\n	\n	Logo recognition on social media sites\n	\n	\n	Logo recognition in newsletter\n	\n	\n	Signage on Judging Stage\n	\n	\n	Announced numerous time at the parade\n	\n	\n	Logo on printed on Halloween Parade posters circulated to the metropolitan area\n	\n	\n	Logo In The Examiner newspaper article about the Halloween Parade circulated to 7\,000 subscribers\n	\n	\n	Logo on Facebook Event Page\n	\n\n\n \n\n\nBoo Buddy Sponsor\n\n$100\n\nBenefits:\n\n\n	Logo recognition on Halloween Parade posters that are circulated around the metropolitan area \n	Logo recognition in eblast to all our members \n	Logo recognition on Facebook Event page \n	Logo recognition on website\n	The opportunity to have a float in the parade  \n\n\n\n\nNot interested in being in the parade\, but still want to be part of the fun? \n\nClick here to volunteer!\n\nARE YOU GOING TO BE AT THE PARADE!? Click 'going' on Facebook\, link below:\n\nhttps://www.facebook.com/events/148304896033200/
X-ALT-DESC;FMTTYPE=text/html:<div><span style="background-image:initial\;background-position:initial\;background-size:initial\;background-repeat:initial\;background-attachment:initial\;background-origin:initial\;background-clip:initial\;"><span style="color:#1d2129\;"><span style="font-family:century gothic\,sans-serif\;"><span style="font-size:12pt\;"><span style="font-size:14px\;"><span style="font-family:arial\;">Looking for a fun way to promote your business and bond with your staff in a fun way? By participating in the 70<sup>th</sup> Annual Halloween Parade you can you showcase your business or non-profit while people stand and sit on both sides of the road watching you participate in the parade. Talk about GREAT ADVERTISEMENT!</span></span></span></span></span></span><br>\n<br>\n<span style="font-family: Arial\, Helvetica\, sans-serif\; font-size: 14px\;">The Independence Chamber of Commerce holds an annual Halloween Parade on the Historic Independence Square.&nbsp\; The Halloween Parade consists of local businesses\, organizations\, and community leaders.&nbsp\;</span><br>\n<br>\n<span style="line-height: 18px\; font-family: Arial\, Helvetica\, sans-serif\; font-size: 14px\;">Would you like to be in the parade? &nbsp\;Please fill out the 2018 Halloween Parade Application and review the Rules &amp\; Regulations below:</span><br>\n<br>\n<span style="font-size: 14px\;"><a href="https://chambermaster.blob.core.windows.net/userfiles/UserFiles/chambers/2043/File/HalloweenParadeApp2018.pdf">2018&nbsp\;Halloween Parade Application/ Rules &amp\; Regulations </a><br>\n<br>\n<a href="https://chambermaster.blob.core.windows.net/userfiles/UserFiles/chambers/2043/File/ParadeRoute2018.pdf">2018 Parade Route&nbsp\;</a><a href="https://chambermaster.blob.core.windows.net/userfiles/UserFiles/chambers/2043/File/ParadeRoute20181.pdf"> </a></span><br>\n&nbsp\;</div>\n\n<div style="text-align: center\;"><br>\n<span style="font-family:arial\;"><span style="font-size:20px\;"><span style="color:#FF8C00\;">Sponsorship Opportunities</span></span></span></div>\n\n<div><span style="color:#FF8C00\;">Presenting Sponsor </span><span style="color:#000000\;">- <strong>SOLD</strong></span>\n\n<ul>\n	<li style="margin-top:0in\;margin-bottom:0in\;margin-bottom:.0001pt\;line-height:12.65pt\;">\n	<p><span style="font-size:14px\;"><span style="font-family:arial\;">A float in the Halloween Parade&nbsp\;(<span style="background:white\;"><span style="color:#1D2129\;">It's a fun way to promote your business and bond with your staff in a fun way. By participating in the parade\, you can you showcase your business while people stand and sit on both sides of the road watching you participate in the parade. Talk about GREAT ADVERTISEMENT)!&nbsp\;</span>- Optional</span></span></span></p>\n	</li>\n	<li style="line-height:12.65pt\;">\n	<p><span style="font-size:14px\;"><span style="font-family:arial\;">The Chamber will advertise the event to the membership through the quarterly Newsletter\, email blast to all members\, Chamber?s website and announced at prior networking events</span></span></p>\n	</li>\n	<li style="line-height:12.65pt\;">\n	<p><span style="font-size:14px\;"><span style="font-family:arial\;">After the event\, a photograph will be placed in The Newsletter\, eblast to all members\, and submitted to local media</span></span></p>\n	</li>\n	<li style="line-height:12.65pt\;">\n	<p><span style="font-size:14px\;"><span style="font-family:arial\;">Logo recognition on website</span></span></p>\n	</li>\n	<li style="line-height:12.65pt\;">\n	<p><span style="font-size:14px\;"><span style="font-family:arial\;">Logo recognition on social media sites</span></span></p>\n	</li>\n	<li style="line-height:12.65pt\;">\n	<p><span style="font-size:14px\;"><span style="font-family:arial\;">Logo recognition in newsletter</span></span></p>\n	</li>\n	<li style="line-height:12.65pt\;">\n	<p><span style="font-size:14px\;"><span style="font-family:arial\;">Signage on Judging Stage</span></span></p>\n	</li>\n	<li style="line-height:12.65pt\;">\n	<p><span style="font-size:14px\;"><span style="font-family:arial\;">Announced numerous time at the parade</span></span></p>\n	</li>\n	<li style="line-height:12.65pt\;">\n	<p><span style="font-size:14px\;"><span style="font-family:arial\;">Logo on printed on Halloween Parade posters circulated to the metropolitan area</span></span></p>\n	</li>\n	<li style="line-height:12.65pt\;">\n	<p><span style="font-size:14px\;"><span style="font-family:arial\;">Logo In The Examiner newspaper article about the Halloween Parade circulated to 7\,000 subscribers</span></span></p>\n	</li>\n	<li style="line-height:12.65pt\;">\n	<p><span style="font-size:14px\;"><span style="font-family:arial\;">Logo on Facebook Event Page</span></span></p>\n	</li>\n</ul>\n\n<div>&nbsp\;</div>\n</div>\n\n<div><span style="font-size:14px\;"><span style="color:#FF8C00\;">Boo Buddy Sponsor</span><br>\n<span style="color:#FF8C00\;">$100</span><br>\nBenefits:</span>\n\n<ul>\n	<li style="margin-bottom:8.0pt\;line-height:105%\;"><span style="font-size:14px\;">Logo recognition on Halloween Parade posters that are circulated around the metropolitan area </span></li>\n	<li style="margin-bottom:8.0pt\;line-height:105%\;"><span style="font-size:14px\;">Logo recognition in eblast to all our members </span></li>\n	<li style="margin-bottom:8.0pt\;line-height:105%\;"><span style="font-size:14px\;">Logo recognition on Facebook Event page </span></li>\n	<li style="margin-bottom:8.0pt\;line-height:105%\;"><span style="font-size:14px\;">Logo recognition on website</span></li>\n	<li style="margin-bottom:8.0pt\;line-height:105%\;"><span style="font-size:14px\;">The opportunity to have a float in the parade&nbsp\;&nbsp\;</span></li>\n</ul>\n\n<div style="margin-bottom:8.0pt\;line-height:105%\;"><br>\n<span style="font-size:14px\;"><strong font-size:="" trebuchet="">Not interested in being in the parade\, but still want to be part of the fun?</strong></span><span style="font-size: 18px\;"><strong font-size:="" trebuchet=""><span style="color: rgb(0\, 128\, 0)\;">&nbsp\;</span></strong><br>\n<strong font-size:="" trebuchet=""><span style="color: rgb(0\, 128\, 0)\;"><a href="http://business.ichamber.biz/form/view/10521">Click here to volunteer!</a></span></strong></span></div>\n\n<div style="margin-bottom:8.0pt\;line-height:105%\;">ARE YOU GOING TO BE AT THE PARADE!? Click 'going' on Facebook\, link below:</div>\n</div>\n<a href="https://www.facebook.com/events/148304896033200/">https://www.facebook.com/events/148304896033200/</a><br>\n&nbsp\;
LOCATION:Historic Independence Square
UID:e.2043.6266
SEQUENCE:3
DTSTAMP:20260424T131816Z
URL:https://business.ichamber.biz/events/details/70th-annual-halloween-parade-6266
END:VEVENT

END:VCALENDAR
