BEGIN:VCALENDAR
VERSION:2.0
PRODID:-//ChamberMaster//Event Calendar 2.0//EN
METHOD:PUBLISH
X-PUBLISHED-TTL:P3D
REFRESH-INTERVAL:P3D
CALSCALE:GREGORIAN
BEGIN:VEVENT
DTSTART:20191026T150000Z
DTEND:20191026T163000Z
X-MICROSOFT-CDO-ALLDAYEVENT:FALSE
SUMMARY:71st Annual Halloween Parade
DESCRIPTION:The 71st Annual Halloween Parade will be hosted again by the Independence Chamber of Commerce on October 26th\, 2019! The parade consists of local businesses\, organizations\, and community leaders. \n\nIf you would like to participate or become a sponsor of the parade\, please see the pricing information below: \nParticipant Pricing Information (all prices will increase by $10 after October 18th\, 2019)\n\n**Entries will not be accepted after Monday\, October 21st\, 2019\n\n\n\n\n\n\n\n$100.00Political Entry - Any political candidates or groups.\n\n\n\n\n\n$50.00Adult/Community Groups - Any adult or community group participating in the parade with a float\, dance studio\, costumed group\, car or motorcycle club\, or equestrian group.\n\n\n\n\n\n$30.00Youth/Non-Profit Group - Any local school\, youth club\, or non-profit group.\n\n\n\n\n\n$0.00Complimentary Entry - Includes only color guards\, military units\, public safety units\, and local school bands.\n\n \n\nSponsorship Opportunities\n\n\n\n\n\n\n\n\n\n$350.00Presenting Sponsor - SOLD\n\nAs the Presenting Sponsor\, your business will receive the following benefits:\n\n1. Option to have a float in the parade \n\n2. Prominent Signage on leading parade banner\, carried by 4 people of your choosing (optional)\n\n3. Announcements of Presenting Sponsorship during parade\n\n4. Prominent Logo recognition on Halloween Parade Posters\n\n5. Prominent Logo recognition in Chamber newsletter\n\n6. Prominent Logo recognition on Facebook Event page\n\n7. Prominent Logo recognition on website\n\n8. Logo In The Examiner newspaper article about the Halloween Parade circulated to 7\,000 subscribers\n\n\n\n\n\n$100.00Boo Buddy Sponsor - SOLD\n\nAs a Boo Buddy Sponsor\, your company will receive the following benefits:\n\n1. Option to have a Float in the parade\n\n2. Logo recognition on Halloween Parade posters\n\n3. Logo recognition in newsletter\n\n4. Logo recognition on Facebook Event page\n\n5. Logo recognition on website\n\n\n\n\n\nIf you are not interested in participating in the parade\, but would still like to join in on the fun\, please call 816 252 4745 or email morgan@ichamber.biz for volunteer opportunities.
X-ALT-DESC;FMTTYPE=text/html:The 71st Annual Halloween Parade will be hosted again by the Independence Chamber of Commerce on October 26th\, 2019! The parade consists of local businesses\, organizations\, and community leaders.&nbsp\;<br />\nIf you would like to participate or become a sponsor of the parade\, please see the pricing information below:&nbsp\;\n<h4 class="modal-title" style="line-height: 1.42857\; color: inherit\; font-family: inherit\; text-align: center\; box-sizing: border-box\; margin: 0px\; font-size: 15px\;"><span style="font-size: 18px\;"><span style="font-family: arial\;"><span style="color: rgb(255\, 140\, 0)\;">Participant Pricing Information <span style="font-size:12px\;">(all prices will increase by $10 after October 18th\, 2019)</span></span></span></span><br />\n<strong style="font-size: 13px\;">**Entries will not be accepted after Monday\, October 21st\, 2019</strong></h4>\n\n<div style="text-align: center\;">\n<div class="modal-body" style="box-sizing: border-box\; position: relative\; padding: 15px\; color: rgb(85\, 85\, 85)\; font-family: Roboto\, sans-serif\; font-size: 14px\;">\n<div class="ng-isolate-scope" mni-inline="true" mni-pricing="" mni-user="vm.user" style="box-sizing: border-box\; margin-bottom: 0px\;">\n<div class="ng-scope" ng-if="vm.fees.length" ng-switch="inline || false" style="box-sizing: border-box\;">\n<div class="ng-scope" ng-repeat="fee in vm.fees" ng-switch-default="" style="box-sizing: border-box\;">\n<div class="ng-scope" ng-include="'template/event-registration/pricing-item.html'" style="box-sizing: border-box\;">\n<div class="form-group ng-scope" ng-class="{ 'soldout': remaining(fee) &lt\; 1\, 'unavailable': !fee.available }" style="box-sizing: border-box\; margin: 0px 0px 10px\; text-align: left\;"><span style="font-family: arial\;"><span class="pull-right" style="box-sizing: border-box\; float: right !important\;"><span class="amount ng-binding" ng-bind-html="fee.amount | eventCurrency" style="box-sizing: border-box\;">$100.00</span></span><strong class="name ng-binding" ng-bind="fee.name" style="box-sizing: border-box\;">Political Entry</strong>&nbsp\;-&nbsp\;<em class="description ng-scope" ng-if="fee.description" style="box-sizing: border-box\;"><span class="ng-binding" ng-bind="fee.description" style="box-sizing: border-box\;">Any political candidates or groups.</span></em></span></div>\n</div>\n</div>\n\n<div class="ng-scope" ng-repeat="fee in vm.fees" ng-switch-default="" style="box-sizing: border-box\;">\n<div class="ng-scope" ng-include="'template/event-registration/pricing-item.html'" style="box-sizing: border-box\;">\n<div class="form-group ng-scope" ng-class="{ 'soldout': remaining(fee) &lt\; 1\, 'unavailable': !fee.available }" style="box-sizing: border-box\; margin: 0px 0px 10px\; text-align: left\;"><span style="font-family: arial\;"><span class="pull-right" style="box-sizing: border-box\; float: right !important\;"><span class="amount ng-binding" ng-bind-html="fee.amount | eventCurrency" style="box-sizing: border-box\;">$50.00</span></span><strong class="name ng-binding" ng-bind="fee.name" style="box-sizing: border-box\;">Adult/Community Groups</strong>&nbsp\;-&nbsp\;<em class="description ng-scope" ng-if="fee.description" style="box-sizing: border-box\;"><span class="ng-binding" ng-bind="fee.description" style="box-sizing: border-box\;">Any adult or community group participating in the parade with a float\, dance studio\, costumed group\, car or motorcycle club\, or equestrian group.</span></em></span></div>\n</div>\n</div>\n\n<div class="ng-scope" ng-repeat="fee in vm.fees" ng-switch-default="" style="box-sizing: border-box\;">\n<div class="ng-scope" ng-include="'template/event-registration/pricing-item.html'" style="box-sizing: border-box\;">\n<div class="form-group ng-scope" ng-class="{ 'soldout': remaining(fee) &lt\; 1\, 'unavailable': !fee.available }" style="box-sizing: border-box\; margin: 0px 0px 10px\; text-align: left\;"><span style="font-family: arial\;"><span class="pull-right" style="box-sizing: border-box\; float: right !important\;"><span class="amount ng-binding" ng-bind-html="fee.amount | eventCurrency" style="box-sizing: border-box\;">$30.00</span></span><strong class="name ng-binding" ng-bind="fee.name" style="box-sizing: border-box\;">Youth/Non-Profit Group</strong>&nbsp\;-&nbsp\;<em class="description ng-scope" ng-if="fee.description" style="box-sizing: border-box\;"><span class="ng-binding" ng-bind="fee.description" style="box-sizing: border-box\;">Any local school\, youth club\, or non-profit group.</span></em></span></div>\n</div>\n</div>\n\n<div class="ng-scope" ng-repeat="fee in vm.fees" ng-switch-default="" style="box-sizing: border-box\;">\n<div class="ng-scope" ng-include="'template/event-registration/pricing-item.html'" style="box-sizing: border-box\;">\n<div class="form-group ng-scope" ng-class="{ 'soldout': remaining(fee) &lt\; 1\, 'unavailable': !fee.available }" style="box-sizing: border-box\; margin: 0px 0px 10px\; text-align: left\;"><span style="font-family: arial\;"><span class="pull-right" style="box-sizing: border-box\; float: right !important\;"><span class="amount ng-binding" ng-bind-html="fee.amount | eventCurrency" style="box-sizing: border-box\;">$0.00</span></span><strong class="name ng-binding" ng-bind="fee.name" style="box-sizing: border-box\;">Complimentary Entry</strong>&nbsp\;-&nbsp\;<em class="description ng-scope" ng-if="fee.description" style="box-sizing: border-box\;"><span class="ng-binding" ng-bind="fee.description" style="box-sizing: border-box\;">Includes <strong>only </strong>color guards\, military units\, public safety units\, and local school bands.</span></em></span><br />\n&nbsp\;</div>\n\n<h4 class="form-group ng-scope" ng-class="{ 'soldout': remaining(fee) &lt\; 1\, 'unavailable': !fee.available }" style="box-sizing: border-box\; margin: 0px 0px 10px\;"><span style="font-size: 18px\;"><span style="font-family: arial\;"><span style="color: rgb(255\, 140\, 0)\;">Sponsorship Opportunities</span></span></span></h4>\n</div>\n</div>\n</div>\n</div>\n</div>\n</div>\n\n<div class="ng-scope" ng-repeat="fee in vm.fees" ng-switch-default="" style="color: rgb(85\, 85\, 85)\; font-family: Roboto\, sans-serif\; font-size: 14px\; text-align: center\; box-sizing: border-box\;">\n<div class="ng-scope" ng-include="'template/event-registration/pricing-item.html'" style="box-sizing: border-box\;">\n<div class="form-group ng-scope" ng-class="{ 'soldout': remaining(fee) &lt\; 1\, 'unavailable': !fee.available }" style="box-sizing: border-box\; margin: 0px 0px 10px\; text-align: left\;"><span style="font-family: arial\;"><span class="pull-right" style="box-sizing: border-box\; float: right !important\;"><span class="amount ng-binding" ng-bind-html="fee.amount | eventCurrency" style="box-sizing: border-box\;">$350.00</span></span><span style="color:#FF8C00\;"><strong class="name ng-binding" ng-bind="fee.name" style="box-sizing: border-box\;">Presenting Sponsor</strong>&nbsp\;</span><strong><span style="color:#000000\;">- SOLD</span></strong><br style="box-sizing: border-box\;" />\n<em class="description ng-scope" ng-if="fee.description" style="box-sizing: border-box\;">As the Presenting Sponsor\, your business will receive the following benefits:<br />\n1. Option to have a float in the parade&nbsp\;<br />\n2. Prominent Signage on leading parade banner\, carried by 4 people of your choosing (optional)<br />\n3. Announcements of Presenting Sponsorship during parade<br />\n4. Prominent Logo recognition on Halloween Parade Posters<br />\n5. Prominent Logo recognition in Chamber newsletter<br />\n6. Prominent Logo recognition on Facebook Event page<br />\n7. Prominent Logo recognition on website<br />\n8. Logo In The Examiner newspaper article about the Halloween Parade circulated to 7\,000 subscribers</em></span></div>\n</div>\n</div>\n\n<div class="ng-scope" ng-repeat="fee in vm.fees" ng-switch-default="" style="color: rgb(85\, 85\, 85)\; font-family: Roboto\, sans-serif\; font-size: 14px\; text-align: center\; box-sizing: border-box\;">\n<div class="ng-scope" ng-include="'template/event-registration/pricing-item.html'" style="box-sizing: border-box\;">\n<div class="form-group ng-scope" ng-class="{ 'soldout': remaining(fee) &lt\; 1\, 'unavailable': !fee.available }" style="box-sizing: border-box\; margin: 0px 0px 10px\; text-align: left\;"><span style="font-family: arial\;"><span class="pull-right" style="box-sizing: border-box\; float: right !important\;"><span class="amount ng-binding" ng-bind-html="fee.amount | eventCurrency" style="box-sizing: border-box\;">$100.00</span></span><span style="color:#FF8C00\;"><strong class="name ng-binding" ng-bind="fee.name" style="box-sizing: border-box\;">Boo Buddy Sponsor&nbsp\;</strong></span><strong class="name ng-binding" ng-bind="fee.name" style="box-sizing: border-box\;"><span style="color:#000000\;">- SOLD</span></strong><br style="box-sizing: border-box\;" />\n<em class="description ng-scope" ng-if="fee.description" style="box-sizing: border-box\;">As a Boo Buddy Sponsor\, your company will receive the following benefits:<br />\n1. Option to have a Float in the parade<br />\n2.&nbsp\;Logo recognition on Halloween Parade posters<br />\n3. Logo recognition in newsletter<br />\n4. Logo recognition on Facebook Event page<br />\n5. Logo recognition on website</em></span></div>\n</div>\n</div>\n\n<h4 class="modal-title" style="line-height: 1.42857\; color: inherit\; font-family: inherit\; box-sizing: border-box\; margin: 0px\; font-size: 15px\;"><br />\nIf you are not interested in participating in the parade\, but would still like to join in on the fun\, please call 816 252 4745 or email morgan@ichamber.biz for volunteer opportunities.</h4>\n
LOCATION:Historic Independence Square
UID:e.2043.8363
SEQUENCE:3
DTSTAMP:20260425T040053Z
URL:https://business.ichamber.biz/events/details/71st-annual-halloween-parade-8363
END:VEVENT

END:VCALENDAR
