BEGIN:VCALENDAR
VERSION:2.0
PRODID:-//ChamberMaster//Event Calendar 2.0//EN
METHOD:PUBLISH
X-PUBLISHED-TTL:P3D
REFRESH-INTERVAL:P3D
CALSCALE:GREGORIAN
BEGIN:VEVENT
DTSTART:20190606T163000Z
DTEND:20190606T183000Z
X-MICROSOFT-CDO-ALLDAYEVENT:FALSE
SUMMARY:7th Annual Chamber Picnic in the Uptown Market
DESCRIPTION:Join your fellow Chamber Members for Member Appreciation Day.\n\nThis year the event has been moved to the Independence Uptown Market.\n\nI know you all will be excited to have shade this year!\n\nFree food\, and a great time will be had!
X-ALT-DESC;FMTTYPE=text/html:Join your fellow Chamber Members for Member Appreciation Day.<br />\nThis year the event has been moved to the Independence Uptown Market.<br />\nI know you all will be excited to have shade this year!<br />\nFree food\, and a great time will be had!
LOCATION:Independence Uptown Market 211 W Truman Rd Independence\, MO 64050
UID:e.2043.8354
SEQUENCE:3
DTSTAMP:20260424T235557Z
URL:https://business.ichamber.biz/events/details/7th-annual-chamber-picnic-in-the-uptown-market-8354
END:VEVENT

END:VCALENDAR
