BEGIN:VCALENDAR
VERSION:2.0
PRODID:-//ChamberMaster//Event Calendar 2.0//EN
METHOD:PUBLISH
X-PUBLISHED-TTL:P3D
REFRESH-INTERVAL:P3D
CALSCALE:GREGORIAN
BEGIN:VEVENT
DTSTART:20180523T163000Z
DTEND:20180523T180000Z
X-MICROSOFT-CDO-ALLDAYEVENT:FALSE
SUMMARY:Active Shooter Training for Businesses
DESCRIPTION:The Independence Police Department will be offering Active Shooter Training for Businesses on Wednesday\, May 23rd at 11:30 am. \n\n*Lunch provided \n\n\n\nTopics that will be covered:\n\n- Workplace Violence statistics (FBI 2016)\, possible violence triggers\n\n- Active Shooter incident discussion: Columbine\, Sandy Hook\, Virginia Tech\, Inland Regional Center\n\n- Response to Active Shooter including Run Hide Fight model\n\n- Methods to barricade/secure rooms\, evacuation policy considerations
X-ALT-DESC;FMTTYPE=text/html:The Independence Police Department will be offering Active Shooter Training for Businesses on Wednesday\, May 23rd at 11:30 am.&nbsp\;<br />\n*Lunch provided&nbsp\;<br />\n<br />\nTopics that will be covered:<br />\n- Workplace Violence statistics (FBI 2016)\, possible violence triggers<br />\n- Active Shooter incident discussion: Columbine\, Sandy Hook\, Virginia Tech\, Inland Regional Center<br />\n- Response to Active Shooter including Run Hide Fight model<br />\n- Methods to barricade/secure rooms\, evacuation policy considerations<br />\n&nbsp\;<br />\n&nbsp\;
LOCATION:Independence Police Department 223 N Memorial Dr\, Independence\, MO 64050 Multi Purpose Room (enter main entrance and it's on your left *Park in the City Hall Lot
UID:e.2043.7287
SEQUENCE:3
DTSTAMP:20260424T065529Z
URL:https://business.ichamber.biz/events/details/active-shooter-training-for-businesses-7287
END:VEVENT

END:VCALENDAR
