BEGIN:VCALENDAR
VERSION:2.0
PRODID:-//ChamberMaster//Event Calendar 2.0//EN
METHOD:PUBLISH
X-PUBLISHED-TTL:P3D
REFRESH-INTERVAL:P3D
CALSCALE:GREGORIAN
BEGIN:VEVENT
DTSTART:20190529T230000Z
DTEND:20190530T010000Z
X-MICROSOFT-CDO-ALLDAYEVENT:FALSE
SUMMARY:Adult Dodgeball Charity Event
DESCRIPTION:Adult Dodgeball Charity Event\n\n\n\n\n\nRegister with Mike Fox\n\n816-547-0933\n\nmfox@ksstate.bank
X-ALT-DESC;FMTTYPE=text/html:Adult Dodgeball Charity Event<br />\n<br />\n<br />\nRegister with Mike Fox<br />\n816-547-0933<br />\n<a href="mailto:mfox@ksstate.bank">mfox@ksstate.bank</a>
LOCATION:Gage Center
UID:e.2043.9685
SEQUENCE:3
DTSTAMP:20260424T235558Z
URL:https://business.ichamber.biz/events/details/adult-dodgeball-charity-event-9685
END:VEVENT

END:VCALENDAR
