BEGIN:VCALENDAR
VERSION:2.0
PRODID:-//ChamberMaster//Event Calendar 2.0//EN
METHOD:PUBLISH
X-PUBLISHED-TTL:P3D
REFRESH-INTERVAL:P3D
CALSCALE:GREGORIAN
BEGIN:VEVENT
DTSTART;VALUE=DATE:20190226
DTEND;VALUE=DATE:20190227
TRANSP:TRANSPARENT
X-MICROSOFT-CDO-ALLDAYEVENT:TRUE
SUMMARY:Advocacy Day in Jefferson City
DESCRIPTION:The Eastern Jackson County Regional Alliance is traveling to Jefferson City to meet with representatives of local government\, including Governor Mike Parson.
X-ALT-DESC;FMTTYPE=text/html:The Eastern Jackson County Regional Alliance is traveling to Jefferson City to meet with representatives of local government\, including Governor Mike Parson.
LOCATION:
UID:e.2043.9065
SEQUENCE:3
DTSTAMP:20260424T184253Z
URL:https://business.ichamber.biz/events/details/advocacy-day-in-jefferson-city-9065
END:VEVENT

END:VCALENDAR
