BEGIN:VCALENDAR
VERSION:2.0
PRODID:-//ChamberMaster//Event Calendar 2.0//EN
METHOD:PUBLISH
X-PUBLISHED-TTL:P3D
REFRESH-INTERVAL:P3D
CALSCALE:GREGORIAN
BEGIN:VEVENT
DTSTART:20220128T143000Z
DTEND:20220128T153000Z
X-MICROSOFT-CDO-ALLDAYEVENT:FALSE
SUMMARY:Ambassador Informational
DESCRIPTION:If you have ever wondered about becoming a chamber Ambassador this is the meeting for you.\n\n\n\nChamber Ambassadors are a group of community and business leaders who are actively involved in the Independence Chamber of Commerce and believe in its mission and delivery of member services\, events\, and programming. The ambassadors provide a personal and professional connection between the Independence Chamber and its members.\n\n\n\nWe are seeking new members to grow its visibility and positive influence in the community. \n\n\n\nJoin current ambassadors for an informational meeting as they will share more about the program and answer questions. The meeting will also discuss how serving as a Chamber Ambassador will make a difference for you\, the community\, and support local businesses and services.
X-ALT-DESC;FMTTYPE=text/html:<strong>If you have ever wondered about becoming a chamber Ambassador this is the meeting for you.</strong><br />\n<br />\nChamber Ambassadors are a group of community and business leaders who are actively involved in the Independence Chamber of Commerce and believe in its mission and delivery of member services\, events\, and programming. The ambassadors provide a personal and professional connection between the Independence Chamber and its members.<br />\n<br />\nWe are seeking new members to grow its visibility and positive influence in the community.&nbsp\;<br />\n<br />\nJoin current ambassadors for an informational meeting as they will share more about the program and answer questions. The meeting will also discuss how serving as a Chamber Ambassador will make a difference for you\, the community\, and support local businesses and services.<br />\n&nbsp\;
LOCATION:Chamber Board Room 210 W Truman Rd Independence MO 64050
UID:e.2043.13931
SEQUENCE:3
DTSTAMP:20260423T203530Z
URL:https://business.ichamber.biz/events/details/ambassador-informational-13931
END:VEVENT

END:VCALENDAR
