BEGIN:VCALENDAR
VERSION:2.0
PRODID:-//ChamberMaster//Event Calendar 2.0//EN
METHOD:PUBLISH
X-PUBLISHED-TTL:P3D
REFRESH-INTERVAL:P3D
CALSCALE:GREGORIAN
BEGIN:VEVENT
DTSTART:20150430T200000Z
DTEND:20150430T210000Z
X-MICROSOFT-CDO-ALLDAYEVENT:FALSE
SUMMARY:Ambassadors Meeting
DESCRIPTION:The Independence Chamber Ambassadors meet the fourth Tuesday of each month at the Chamber.
X-ALT-DESC;FMTTYPE=text/html:The Independence Chamber Ambassadors meet the fourth Tuesday of each month at the Chamber.&nbsp\;<br />\n<br />\n&nbsp\;
LOCATION:Independence Chamber of Commerce 210 W Truman Road Independence\, MO 64050
UID:e.2043.1832
SEQUENCE:3
DTSTAMP:20260425T193018Z
URL:https://business.ichamber.biz/events/details/ambassadors-meeting-04-30-2015-1832
END:VEVENT

END:VCALENDAR
