BEGIN:VCALENDAR
VERSION:2.0
PRODID:-//ChamberMaster//Event Calendar 2.0//EN
METHOD:PUBLISH
X-PUBLISHED-TTL:P3D
REFRESH-INTERVAL:P3D
CALSCALE:GREGORIAN
BEGIN:VEVENT
DTSTART:20141223T220000Z
DTEND:20141223T230000Z
X-MICROSOFT-CDO-ALLDAYEVENT:FALSE
SUMMARY:Ambassadors Meeting
DESCRIPTION:The Independence Chamber Ambassadors meet the fourth Tuesday of each month at the Chamber.
X-ALT-DESC;FMTTYPE=text/html:The Independence Chamber Ambassadors meet the fourth Tuesday of each month at the Chamber.&nbsp\;<br />\n<br />\n&nbsp\;
LOCATION:Independence Chamber of Commerce 210 W Truman Road Independence\, MO 64050
UID:e.2043.1051
SEQUENCE:3
DTSTAMP:20260426T003900Z
URL:https://business.ichamber.biz/events/details/ambassadors-meeting-12-23-2014-1051
END:VEVENT

END:VCALENDAR
