BEGIN:VCALENDAR
VERSION:2.0
PRODID:-//ChamberMaster//Event Calendar 2.0//EN
METHOD:PUBLISH
X-PUBLISHED-TTL:P3D
REFRESH-INTERVAL:P3D
CALSCALE:GREGORIAN
BEGIN:VEVENT
DTSTART:20250606T160000Z
DTEND:20250606T180000Z
X-MICROSOFT-CDO-ALLDAYEVENT:FALSE
SUMMARY:Anniversary Celebration
DESCRIPTION:Join us to celebrate the start of our 8th year in business! There will be plenty of good conversation\, prizes\, refreshments\, and fun - all for free. Stop by and say hi! We'd love to see you and thank you for your support over the years.
X-ALT-DESC;FMTTYPE=text/html:Join us to celebrate the start of our 8th year in business! There will be plenty of good conversation\, prizes\, refreshments\, and fun - all for free. Stop by and say hi! We&#39\;d love to see you and thank you for your support over the years.
LOCATION:1214 S Noland Rd Ste B Independence\, MO 64055
UID:e.2043.17746
SEQUENCE:3
DTSTAMP:20260425T214135Z
URL:https://business.ichamber.biz/events/details/anniversary-celebration-17746
END:VEVENT

END:VCALENDAR
