BEGIN:VCALENDAR
VERSION:2.0
PRODID:-//ChamberMaster//Event Calendar 2.0//EN
METHOD:PUBLISH
X-PUBLISHED-TTL:P3D
REFRESH-INTERVAL:P3D
CALSCALE:GREGORIAN
BEGIN:VEVENT
DTSTART:20150612T123000Z
DTEND:20150612T140000Z
X-MICROSOFT-CDO-ALLDAYEVENT:FALSE
SUMMARY:Annual First Responders Recognition and Awards Breakfast
DESCRIPTION:Annually\, the Independence Chamber recognizes and thanks our local first responders for the significant and highly- valued contributions they provide to the businesses and citizens in the City of Independence. This year's event will be held on Friday\, June 12\, 2015 beginning at 7:30 am\, at the Truman Memorial Building.\n\n\n\nAs part of this annual recognition\, four awards are bestowed on behalf of the Independence business community to members of the local First Responder family:\n\n	Heroism\n	Community Service\n	Bravery\n	Dedication.\n\nRepresentatives from businesses and non-profit organizations with first-hand knowledge of exemplary acts or an extraordinary body of work during the past year by a local First Responder are encouraged to complete and submit the 2015 Nomination Form available in the Chamber offices or by clicking here.
X-ALT-DESC;FMTTYPE=text/html:Annually\, the Independence Chamber recognizes and thanks our local first responders for the significant and highly-&nbsp\;valued contributions they provide to the businesses and citizens in the&nbsp\;City of Independence. This year&rsquo\;s event will be held on Friday\, June 12\,&nbsp\;2015 beginning at 7:30 am\, at the Truman Memorial Building.<br />\n<br />\nAs part of this annual recognition\, four awards are bestowed on behalf&nbsp\;of the Independence business community to members of the local First&nbsp\;Responder family:\n<ul>\n	<li>Heroism</li>\n	<li>Community Service</li>\n	<li>Bravery</li>\n	<li>Dedication.</li>\n</ul>\nRepresentatives from businesses and non-profit organizations with&nbsp\;first-hand knowledge of exemplary acts or an extraordinary body of work&nbsp\;during the past year by a local First Responder are encouraged to complete&nbsp\;and submit the 2015 Nomination Form available in the Chamber&nbsp\;offices or by <strong><a href="http://ichamber.biz/wp-content/uploads/2013/04/NOMINATION-FORM-2015.pdf"><span style="color:#FF0000\;">clicking here</span></a><a href="http://ichamber.biz/wp-content/uploads/2013/04/NOMINATION-FORM-20151.pdf"><span style="color:#FF0000\;">.</span></a></strong>
LOCATION:Truman Memorial Building 416 West Maple Street Independence\, MO 64050
UID:e.2043.2506
SEQUENCE:3
DTSTAMP:20260425T172119Z
URL:https://business.ichamber.biz/events/details/annual-first-responders-recognition-and-awards-breakfast-06-12-2015-2506
END:VEVENT

END:VCALENDAR
