BEGIN:VCALENDAR
VERSION:2.0
PRODID:-//ChamberMaster//Event Calendar 2.0//EN
METHOD:PUBLISH
X-PUBLISHED-TTL:P3D
REFRESH-INTERVAL:P3D
CALSCALE:GREGORIAN
BEGIN:VEVENT
DTSTART:20190301T013000Z
DTEND:20190301T033000Z
X-MICROSOFT-CDO-ALLDAYEVENT:FALSE
SUMMARY:Apex After Dark Presents: Robb Sansonetti Solo
DESCRIPTION:Singer/Songwriter/Americana/Indie/Folk! This is great music! Come join us and listen to Robb play all of our favorites! We have 16 beers on tap as well as cocktails!
X-ALT-DESC;FMTTYPE=text/html:<span style="background-color:rgb(255\, 255\, 255)\; color:rgb(29\, 33\, 41)\; font-family:helvetica\,arial\,sans-serif\; font-size:12px">Singer/Songwriter/Americana/Indie/Folk! This is great music! Come join us and listen to Robb play all of our favorites! We have 16 beers on tap as well as cocktails!</span>
LOCATION:Apex Aleworks 4354 S Noland Road Independence\, MO 64055
UID:e.2043.9285
SEQUENCE:3
DTSTAMP:20260424T200146Z
URL:https://business.ichamber.biz/events/details/apex-after-dark-presents-robb-sansonetti-solo-9285
END:VEVENT

END:VCALENDAR
