BEGIN:VCALENDAR
VERSION:2.0
PRODID:-//ChamberMaster//Event Calendar 2.0//EN
METHOD:PUBLISH
X-PUBLISHED-TTL:P3D
REFRESH-INTERVAL:P3D
CALSCALE:GREGORIAN
BEGIN:VEVENT
DTSTART:20190405T220000Z
DTEND:20190406T020000Z
X-MICROSOFT-CDO-ALLDAYEVENT:FALSE
SUMMARY:April First Friday
DESCRIPTION:Join KC Cajun at the Jones Galler (1717 Walnut St. KCMO) each First Friday of the month\, as thousands of residents and visitors fill the sidewalks of the Crossroads in Kansa CIty\, enjoying what has become the city's largest and most popular event. Arts organizations\, galleries\, studios\, food trucks\, and a wide varity of local businesses feature regional and national artists as well as live entertainment starting at 5pm.
X-ALT-DESC;FMTTYPE=text/html:Join KC Cajun at the Jones Galler (1717 Walnut St. KCMO) each First Friday of the month\, as thousands of residents and visitors fill the sidewalks of the Crossroads in Kansa CIty\, enjoying what has become the city&#39\;s largest and most popular event. Arts organizations\, galleries\, studios\, food trucks\, and a wide varity of local businesses feature regional and national artists as well as live entertainment starting at 5pm.&nbsp\;
LOCATION:
UID:e.2043.9506
SEQUENCE:3
DTSTAMP:20260424T223606Z
URL:https://business.ichamber.biz/events/details/april-first-friday-9506
END:VEVENT

END:VCALENDAR
