BEGIN:VCALENDAR
VERSION:2.0
PRODID:-//ChamberMaster//Event Calendar 2.0//EN
METHOD:PUBLISH
X-PUBLISHED-TTL:P3D
REFRESH-INTERVAL:P3D
CALSCALE:GREGORIAN
BEGIN:VEVENT
DTSTART:20190427T130000Z
DTEND:20190428T020000Z
X-MICROSOFT-CDO-ALLDAYEVENT:FALSE
SUMMARY:April Super Day at Terra!
DESCRIPTION:Join us for April's Super Day! \n\n\n\nEnter in store for a chance to win the "Take a Hike" themed gift basket!\n\n\n\nAlso\, shop our clearance section in store and get 30% off items!\n\n\n\nEnjoy...\n\n*tasty samples throughout the store\n\n*meet & greet local vendors\n\n*take advantage of April specials before they're gone\n\n\n\nTerra Reward Card holders receive DOUBLE points (10%) back on all their purchases (valid 8am-9pm 4/27/19). To sign up for a free loyalty membership card\, see cashier.
X-ALT-DESC;FMTTYPE=text/html:<strong><span style="background-color:transparent\; color:rgb(29\, 33\, 41)\; font-family:helvetica\,arial\,sans-serif\; font-size:14px">Join us for April&#39\;s Super Day! </span></strong><br />\n<br />\n<span style="background-color:transparent\; color:rgb(29\, 33\, 41)\; font-family:helvetica\,arial\,sans-serif\; font-size:14px">Enter in store for a chance to win the &quot\;Take a Hike&quot\; themed gift basket!</span><br />\n<br />\n<strong><span style="background-color:transparent\; color:rgb(29\, 33\, 41)\; font-family:helvetica\,arial\,sans-serif\; font-size:14px">Also\, shop our clearance section in store and get 30% off items!</span></strong><br />\n<br />\n<span style="background-color:transparent\; color:rgb(29\, 33\, 41)\; font-family:helvetica\,arial\,sans-serif\; font-size:14px">Enjoy...</span><br />\n<span style="background-color:transparent\; color:rgb(29\, 33\, 41)\; font-family:helvetica\,arial\,sans-serif\; font-size:14px">*tasty samples throughout the store</span><br />\n<span style="background-color:transparent\; color:rgb(29\, 33\, 41)\; font-family:helvetica\,arial\,sans-serif\; font-size:14px">*meet &amp\; greet local vendors</span><br />\n<span style="background-color:transparent\; color:rgb(29\, 33\, 41)\; font-family:helvetica\,arial\,sans-serif\; font-size:14px">*take advantage of April specials before they&#39\;re gone</span><br />\n<br />\n<span style="background-color:transparent\; color:rgb(29\, 33\, 41)\; font-family:helvetica\,arial\,sans-serif\; font-size:14px">Terra Reward Card holders receive DOUBLE points (10%) back on all their purchases (valid 8am-9pm 4/27/19). To sign up for a free loyalty membership card\, see cashier.</span>
LOCATION:Terra Health & Wellness Market Conveniently located just off I-70 and Little Blue Parkway\, in the same shopping venter as Bed\, Bath & Beyond and World Market.
UID:e.2043.9524
SEQUENCE:3
DTSTAMP:20260424T223826Z
URL:https://business.ichamber.biz/events/details/april-super-day-at-terra-9524
END:VEVENT

END:VCALENDAR
