BEGIN:VCALENDAR
VERSION:2.0
PRODID:-//ChamberMaster//Event Calendar 2.0//EN
METHOD:PUBLISH
X-PUBLISHED-TTL:P3D
REFRESH-INTERVAL:P3D
CALSCALE:GREGORIAN
BEGIN:VEVENT
DTSTART:20180212T160000Z
DTEND:20180212T200000Z
X-MICROSOFT-CDO-ALLDAYEVENT:FALSE
SUMMARY:Blood Drive
DESCRIPTION:Give the perfect gift this year and donate blood to someone in need. Schedule your donation at redcrossblood.org \, in the 'Find Blood Drive' box\, type in 64050 for the zip code\, then click on Independence Chamber to register in the times available.
X-ALT-DESC;FMTTYPE=text/html:<span style="font-size:14px\;"><span style="color:#000000\;">Give the perfect gift this year and donate blood to someone in need. Schedule your donation at&nbsp\;</span><a href="http://redcrossblood.org"><span style="color:#000000\;"><strong style="color: rgb(0\, 0\, 0)\; font-family: arial\; font-size: 14px\;">redcrossblood.org</strong></span></a><span style="color:#000000\;">&nbsp\;\, in the &#39\;Find Blood Drive&#39\; box\, type in 64050 for the zip code\, then click on Independence Chamber&nbsp\;to register in the times available.&nbsp\;</span></span><br />\n&nbsp\;
LOCATION:Independence Chamber of Commerce Boardroom 210. W. Truman Rd. Independence\, MO 64050
UID:e.2043.5490
SEQUENCE:3
DTSTAMP:20260424T034645Z
URL:https://business.ichamber.biz/events/details/blood-drive-02-12-2018-5490
END:VEVENT

END:VCALENDAR
