BEGIN:VCALENDAR
VERSION:2.0
PRODID:-//ChamberMaster//Event Calendar 2.0//EN
METHOD:PUBLISH
X-PUBLISHED-TTL:P3D
REFRESH-INTERVAL:P3D
CALSCALE:GREGORIAN
BEGIN:VEVENT
DTSTART:20180314T130000Z
DTEND:20180314T140000Z
X-MICROSOFT-CDO-ALLDAYEVENT:FALSE
SUMMARY:Board Meeting
DESCRIPTION:Board Meeting
X-ALT-DESC;FMTTYPE=text/html:Board Meeting
LOCATION:Independence Chamber 210 W Truman Rd Independence\, MO 64050
UID:e.2043.5599
SEQUENCE:3
DTSTAMP:20260424T044837Z
URL:https://business.ichamber.biz/events/details/board-meeting-03-14-2018-5599
END:VEVENT

END:VCALENDAR
