BEGIN:VCALENDAR
VERSION:2.0
PRODID:-//ChamberMaster//Event Calendar 2.0//EN
METHOD:PUBLISH
X-PUBLISHED-TTL:P3D
REFRESH-INTERVAL:P3D
CALSCALE:GREGORIAN
BEGIN:VEVENT
DTSTART:20180222T223000Z
DTEND:20180223T000000Z
X-MICROSOFT-CDO-ALLDAYEVENT:FALSE
SUMMARY:Business After Hours
DESCRIPTION:ALERT! \n\nDue to inclement weather\, Business After Hours scheduled today\, 2/22/18\, has been canceled.  A rescheduled date is being reviewed and will be posted as soon as it has been determined.\n\n\n\nCome join us for Business After Hours sponsored by MCC-Blue River! This will take place in between the two candidate forums at 2:00 pm and 6:00 pm. The after hours begins at 4:30 pm\n\n*Networking\n\n*Light Refreshments \n\n\n\nUnwind at the end of your day and strengthen your professional contacts at the same time. With its social atmosphere and quality contacts\, you can't beat this networking opportunity! Take a moment to register so we can plan accordingly.
X-ALT-DESC;FMTTYPE=text/html:<h2 20px="" background-color:="" color:="" font-size:="" font-weight:="" helvetica="" letter-spacing:="" line-height:="" margin:="" max-width:="" style="box-sizing: border-box\;" text-align:=""><strong style="box-sizing: border-box\;"><span style="box-sizing: border-box\; color: rgb(255\, 0\, 0)\;">ALERT!&nbsp\;</span></strong></h2>\n\n<h2 20px="" background-color:="" color:="" font-size:="" font-weight:="" helvetica="" letter-spacing:="" line-height:="" margin:="" max-width:="" style="box-sizing: border-box\;" text-align:=""><span style="box-sizing: border-box\; color: rgb(255\, 0\, 0)\;">Due to inclement weather\, Business After Hours scheduled today\, 2/22/18\, has been canceled.&nbsp\; A rescheduled date is being reviewed and will be posted as soon as it has been determined.</span></h2>\n\n<p style="margin: 0px\; padding: 4px 0px 10px\; border: 0px\; font-size: 14px\; vertical-align: baseline\; color: rgb(51\, 51\, 51)\; line-height: 18px\; font-family: Arial\, Helvetica\, sans-serif\;"><br />\n<span style="font-family: Arial\, Helvetica\, sans-serif\; font-size: 14px\;">Come join us for Business After Hours sponsored by MCC-Blue River! This will take place in between the two candidate forums at 2:00 pm and 6:00 pm. <strong>The after hours begins at 4:30 pm</strong></span></p>\n\n<p style="margin: 0px\; padding: 4px 0px 10px\; border: 0px\; font-size: 14px\; vertical-align: baseline\; color: rgb(51\, 51\, 51)\; line-height: 18px\; font-family: Arial\, Helvetica\, sans-serif\;"><span style="font-family: Arial\, Helvetica\, sans-serif\; font-size: 14px\;">*Networking<br />\n*Light Refreshments&nbsp\;<br />\n<br />\nUnwind at the end of your day and strengthen your professional contacts at the same time.&nbsp\;With its social&nbsp\;atmosphere&nbsp\;and quality contacts\, you can&#39\;t beat this networking opportunity! Take a moment to&nbsp\;register&nbsp\;so we can plan accordingly.</span></p>\n\n<p style="margin: 0px\; padding: 4px 0px 10px\; border: 0px\; font-size: 14px\; vertical-align: baseline\; color: rgb(51\, 51\, 51)\; line-height: 18px\; font-family: Arial\, Helvetica\, sans-serif\;">&nbsp\;</p>\n\n<p style="margin: 0px\; padding: 4px 0px 10px\; border: 0px\; font-size: 14px\; vertical-align: baseline\; color: rgb(51\, 51\, 51)\; line-height: 18px\; font-family: Arial\, Helvetica\, sans-serif\;">&nbsp\;</p>\n
LOCATION:MCC - Blue River 20301 MO-78 Independence\, MO 64057 *In the Welcome Center across from the candidate form in room EC 110 in the far west building\, the Education Center. http://www.mcckc.edu/our-campuses/blue-river/maps.aspx
UID:e.2043.6203
SEQUENCE:3
DTSTAMP:20260424T034752Z
URL:https://business.ichamber.biz/events/details/business-after-hours-02-22-2018-6203
END:VEVENT

END:VCALENDAR
