BEGIN:VCALENDAR
VERSION:2.0
PRODID:-//ChamberMaster//Event Calendar 2.0//EN
METHOD:PUBLISH
X-PUBLISHED-TTL:P3D
REFRESH-INTERVAL:P3D
CALSCALE:GREGORIAN
BEGIN:VEVENT
DTSTART:20150415T213000Z
DTEND:20150415T233000Z
X-MICROSOFT-CDO-ALLDAYEVENT:FALSE
SUMMARY:Business After Hours
DESCRIPTION:Join us for the Business After Hours - Tax Relief Party! \n\n \n\nTo celebrate the end of tax season\, we are holding a Business After Hours -\n\nTax Relief Party at Stoney Creek Hotel & Conference Center's McCoys Bar!\n\n\n \n\nEnjoy hosted beverages and appetizers along with the chance to win a free nights stay in the Cosmo Suite at Stoney Creek. \n \n\nTours of the facility will also be given throughout the evening and you are invited to stay as long as you'd like.
X-ALT-DESC;FMTTYPE=text/html:Join us for the Business After Hours - Tax Relief Party!&nbsp\;<br />\n&nbsp\;\n<div>\n<div>To celebrate the end of tax season\, we are holding a Business After Hours -</div>\n\n<div>Tax Relief Party&nbsp\;at&nbsp\;Stoney Creek Hotel &amp\; Conference Center&#39\;s McCoys Bar!</div>\n</div>\n\n<div>&nbsp\;</div>\n\n<div>Enjoy hosted beverages and appetizers along with the chance to win a free nights stay in the Cosmo Suite at Stoney Creek.&nbsp\;</div>\n&nbsp\;\n\n<div>Tours of the facility will also be given throughout the evening and you are invited to stay as long as you&#39\;d like.</div>\n
LOCATION:Stoney Creek Hotel & Conference Center 18011 Bass Pro Drive Independence\, MO 64055
UID:e.2043.2483
SEQUENCE:3
DTSTAMP:20260425T193119Z
URL:https://business.ichamber.biz/events/details/business-after-hours-04-15-2015-2483
END:VEVENT

END:VCALENDAR
