BEGIN:VCALENDAR
VERSION:2.0
PRODID:-//ChamberMaster//Event Calendar 2.0//EN
METHOD:PUBLISH
X-PUBLISHED-TTL:P3D
REFRESH-INTERVAL:P3D
CALSCALE:GREGORIAN
BEGIN:VEVENT
DTSTART:20180628T213000Z
DTEND:20180628T230000Z
X-MICROSOFT-CDO-ALLDAYEVENT:FALSE
SUMMARY:Business After Hours
DESCRIPTION:We hope you can join us for Business After Hours at Corporate CopyPrint! Come and check out their renovations! \n\n\n\nUnwind at the end of your day and strengthen your professional contacts at the same time. With its social atmosphere and quality contacts\, you can't beat this networking opportunity!
X-ALT-DESC;FMTTYPE=text/html:<p style="margin: 0px\; padding: 4px 0px 10px\; border: 0px\; font-size: 14px\; vertical-align: baseline\; line-height: 18px\; font-family: Arial\, Helvetica\, sans-serif\;"><span style="color:#000000\;"><span style="font-size:14px\;"><span style="font-family:arial\;">We hope you can join us for Business After Hours at Corporate CopyPrint! Come and check out their renovations!&nbsp\;<br />\n<br />\nUnwind at the end of your day and strengthen your professional contacts at the same time.&nbsp\;With its social&nbsp\;atmosphere&nbsp\;and quality contacts\, you can&#39\;t beat this networking opportunity!&nbsp\;</span></span></span></p>\n\n<p style="margin: 0px\; padding: 4px 0px 10px\; border: 0px\; font-size: 14px\; vertical-align: baseline\; color: rgb(51\, 51\, 51)\; line-height: 18px\; font-family: Arial\, Helvetica\, sans-serif\;">&nbsp\;</p>\n\n<p style="margin: 0px\; padding: 4px 0px 10px\; border: 0px\; font-size: 14px\; vertical-align: baseline\; color: rgb(51\, 51\, 51)\; line-height: 18px\; font-family: Arial\, Helvetica\, sans-serif\;">&nbsp\;</p>\n
LOCATION:Corporate CopyPrint 111 S Main St\, Independence\, MO 64050 *You may park anywhere on the square and the lot behind is also available to park in
UID:e.2043.5478
SEQUENCE:3
DTSTAMP:20260424T081907Z
URL:https://business.ichamber.biz/events/details/business-after-hours-06-28-2018-5478
END:VEVENT

END:VCALENDAR
