BEGIN:VCALENDAR
VERSION:2.0
PRODID:-//ChamberMaster//Event Calendar 2.0//EN
METHOD:PUBLISH
X-PUBLISHED-TTL:P3D
REFRESH-INTERVAL:P3D
CALSCALE:GREGORIAN
BEGIN:VEVENT
DTSTART:20170511T210000Z
DTEND:20170511T230000Z
X-MICROSOFT-CDO-ALLDAYEVENT:FALSE
SUMMARY:Business After Hours: A Taste of Independence
DESCRIPTION:Come unwind at the end of your day and join us for "A Taste of Independence" Expo Business After Hours event with the Independence Chamber of Commerce and the Independence Economic Development Council! \nAll attendees will enjoy  samples of food from area restaurants\, caterers\, and food producers and a cash bar will be available.
X-ALT-DESC;FMTTYPE=text/html:<span style="font-size:14px\;">Come unwind at&nbsp\;the end of your day and join us for &quot\;A Taste of Independence&quot\; Expo Business After Hours event with the Independence Chamber of Commerce and the Independence Economic Development Council!&nbsp\;</span>\n<p style="color: rgb(51\, 51\, 51)\; font-family: sans-serif\, Arial\, Verdana\, 'Trebuchet MS'\; font-size: 13px\; line-height: 20.7999992370605px\;"><span style="font-size:14px\;">All attendees will enjoy&nbsp\;<span style="font-family: helvetica\, sans-serif\; letter-spacing: 0.533333px\;">&nbsp\;samples of food from area restaurants\, caterers\, and food producers and a&nbsp\;cash bar will be available.&nbsp\;</span></span></p>\n
LOCATION:Stoney Creek Hotel 18001 Bass Pro Dr Independence\, MO 64055
UID:e.2043.4303
SEQUENCE:3
DTSTAMP:20260424T153730Z
URL:https://business.ichamber.biz/events/details/business-after-hours-a-taste-of-independence-05-11-2017-4303
END:VEVENT

END:VCALENDAR
