BEGIN:VCALENDAR
VERSION:2.0
PRODID:-//ChamberMaster//Event Calendar 2.0//EN
METHOD:PUBLISH
X-PUBLISHED-TTL:P3D
REFRESH-INTERVAL:P3D
CALSCALE:GREGORIAN
BEGIN:VEVENT
DTSTART:20200618T213000Z
DTEND:20200618T230000Z
X-MICROSOFT-CDO-ALLDAYEVENT:FALSE
SUMMARY:Business After Hours at APEX Aleworks: Sponsored by Stewardship Capitol
DESCRIPTION:LIMITED ATTENDANCE!\n\nPlease join us for our FIRST in-person event since March\, sponsored by Stewardship Capitol! We are very excited for APEX Aleworks to be hosting us at their brewery to enjoy some networking\, drinks\, and small bites.
X-ALT-DESC;FMTTYPE=text/html:LIMITED ATTENDANCE!<br />\nPlease join us for our FIRST in-person event since March\, sponsored by&nbsp\;<a href="http://www.stewcap.com/">Stewardship Capitol</a>! We are very excited for APEX Aleworks to be hosting us at their brewery to enjoy some networking\, drinks\, and small bites.
LOCATION:
UID:e.2043.12881
SEQUENCE:3
DTSTAMP:20260425T115810Z
URL:https://business.ichamber.biz/events/details/business-after-hours-at-apex-aleworks-sponsored-by-stewardship-capitol-12881
END:VEVENT

END:VCALENDAR
