BEGIN:VCALENDAR
VERSION:2.0
PRODID:-//ChamberMaster//Event Calendar 2.0//EN
METHOD:PUBLISH
X-PUBLISHED-TTL:P3D
REFRESH-INTERVAL:P3D
CALSCALE:GREGORIAN
BEGIN:VEVENT
DTSTART:20190523T220000Z
DTEND:20190523T233000Z
X-MICROSOFT-CDO-ALLDAYEVENT:FALSE
SUMMARY:Business After Hours at Paradise Park
DESCRIPTION:Join us for appetizers and drinks at the Business After Hours hosted and sponsored by Paradise Park. \nWhether you just participated in the Mini-Golf Tournament or just got off work this will be a great way to end your day.
X-ALT-DESC;FMTTYPE=text/html:<span style="font-size:16px\;"><span style="background-color: rgb(255\, 255\, 255)\;"><font color="#333333" face="Arial\, Helvetica\, sans-serif">Join us for appetizers&nbsp\;and drinks at the Business After Hours hosted and sponsored by&nbsp\;Paradise Park.&nbsp\;</font></span></span>\n<div><span style="font-size:16px\;"><span style="background-color: rgb(255\, 255\, 255)\;"><font color="#333333" face="Arial\, Helvetica\, sans-serif">Whether you just participated in the Mini-Golf Tournament or just got off work this will be a great way to end your day.</font></span></span></div>\n
LOCATION:Paradise Park
UID:e.2043.9070
SEQUENCE:3
DTSTAMP:20260424T223800Z
URL:https://business.ichamber.biz/events/details/business-after-hours-at-paradise-park-9070
END:VEVENT

END:VCALENDAR
