BEGIN:VCALENDAR
VERSION:2.0
PRODID:-//ChamberMaster//Event Calendar 2.0//EN
METHOD:PUBLISH
X-PUBLISHED-TTL:P3D
REFRESH-INTERVAL:P3D
CALSCALE:GREGORIAN
BEGIN:VEVENT
DTSTART:20170817T213000Z
DTEND:20170817T230000Z
X-MICROSOFT-CDO-ALLDAYEVENT:FALSE
SUMMARY:Business After Hours: Bass Pro/Islamorada Fish Company
DESCRIPTION:Join us for a Business After Hours event with Bass Pro/Islamorada Fish Company.  If you want to get there early\, Happy Hour begins at 3.  The Chamber Business After Hours will be from 4:30- 6 pm and will include appetizers\, and raffle drawings! \n\n\n\nCome unwind at the end of your day and strengthen your professional contacts at the same time. With its social atmosphere and quality contacts\, you can't beat this networking opportunity!
X-ALT-DESC;FMTTYPE=text/html:<span style="font-family:arial\;">Join us for a Business After Hours event with Bass Pro/Islamorada Fish Company. &nbsp\;If you want to get there early\, Happy Hour begins at 3. &nbsp\;The Chamber Business After Hours will be from 4:30- 6 pm and will include appetizers\, and raffle drawings!&nbsp\;</span><br style="font-family: arial\;" />\n<br />\n<span style="font-family:arial\;"><span style="line-height: 20.7999992370605px\;">Come unwind at</span><span style="line-height: 20.7999992370605px\;">&nbsp\;the end of your day and strengthen your professional contacts at the same time.&nbsp\;With its social&nbsp\;atmosphere&nbsp\;and quality contacts\, you can&#39\;t beat this networking opportunity!&nbsp\;</span></span>\n<p style="color: rgb(51\, 51\, 51)\; font-family: sans-serif\, Arial\, Verdana\, 'Trebuchet MS'\; font-size: 13px\; line-height: 20.7999992370605px\;">&nbsp\;</p>\n
LOCATION:18001 Bass Pro Dr Independence\, MO 64055
UID:e.2043.4988
SEQUENCE:3
DTSTAMP:20260424T113647Z
URL:https://business.ichamber.biz/events/details/business-after-hours-bass-pro-islamorada-fish-company-08-17-2017-4988
END:VEVENT

END:VCALENDAR
