BEGIN:VCALENDAR
VERSION:2.0
PRODID:-//ChamberMaster//Event Calendar 2.0//EN
METHOD:PUBLISH
X-PUBLISHED-TTL:P3D
REFRESH-INTERVAL:P3D
CALSCALE:GREGORIAN
BEGIN:VEVENT
DTSTART:20150917T213000Z
DTEND:20150917T230000Z
X-MICROSOFT-CDO-ALLDAYEVENT:FALSE
SUMMARY:Business After Hours: Bass Pro/Islamorada Fish Company
DESCRIPTION:Join us for a Business After Hours event with Bass Pro/Islamorada Fish Company.\n\n\n\nCome unwind at the end of your day and strengthen your professional contacts at the same time. With its social atmosphere and quality contacts\, you can't beat this networking opportunity! \n\nAll attendees will enjoy food and beverage along with 5.00 off coupons for purchase of $20.00.
X-ALT-DESC;FMTTYPE=text/html:<span style="font-family:arial\;">Join us for a Business After Hours event with Bass Pro/Islamorada Fish Company.<br />\n<br />\n<span style="line-height: 20.7999992370605px\;">Come unwind at</span><span style="line-height: 20.7999992370605px\;">&nbsp\;the end of your day and strengthen your professional contacts at the same time.&nbsp\;With its social&nbsp\;atmosphere&nbsp\;and quality contacts\, you can&rsquo\;t beat this networking opportunity!&nbsp\;</span></span>\n\n<p style="color: rgb(51\, 51\, 51)\; font-family: sans-serif\, Arial\, Verdana\, 'Trebuchet MS'\; font-size: 13px\; line-height: 20.7999992370605px\;"><span style="font-family:arial\;">All attendees will enjoy food and beverage along with&nbsp\;<span style="font-size: 13px\; line-height: 20.7999992370605px\; background-color: rgb(255\, 255\, 255)\;">5.00 off coupons for purchase of $20.00.</span></span></p>\n
LOCATION:18001 Bass Pro Dr Independence\, MO 64055
UID:e.2043.2682
SEQUENCE:3
DTSTAMP:20260425T133853Z
URL:https://business.ichamber.biz/events/details/business-after-hours-bass-pro-islamorada-fish-company-09-17-2015-2682
END:VEVENT

END:VCALENDAR
