BEGIN:VCALENDAR
VERSION:2.0
PRODID:-//ChamberMaster//Event Calendar 2.0//EN
METHOD:PUBLISH
X-PUBLISHED-TTL:P3D
REFRESH-INTERVAL:P3D
CALSCALE:GREGORIAN
BEGIN:VEVENT
DTSTART:20181025T213000Z
DTEND:20181025T230000Z
X-MICROSOFT-CDO-ALLDAYEVENT:FALSE
SUMMARY:Business After Hours: Blue Ridge Bank's 60th Anniversary
DESCRIPTION:Come join us in celebrating Blue Ridge Bank & Trust Co.'s  60th Anniversary!\n\n\n\nUnwind at the end of your day and strengthen your professional contacts at the same time. With its social atmosphere and quality contacts\, you can't beat this networking opportunity! Take a moment to register so we can plan accordingly.
X-ALT-DESC;FMTTYPE=text/html:<p style="margin: 0px\; padding: 4px 0px 10px\; border: 0px\; font-size: 14px\; vertical-align: baseline\; line-height: 18px\; font-family: Arial\, Helvetica\, sans-serif\;">Come join us in celebrating Blue Ridge Bank &amp\; Trust Co.&#39\;s&nbsp\;&nbsp\;60th&nbsp\;Anniversary!<br />\n<br />\nUnwind at the end of your day and strengthen your professional contacts at the same time.&nbsp\;With its social&nbsp\;atmosphere&nbsp\;and quality contacts\, you can&#39\;t beat this networking opportunity! Take a moment to&nbsp\;register&nbsp\;so we can plan accordingly.</p>\n\n<p style="margin: 0px\; padding: 4px 0px 10px\; border: 0px\; font-size: 14px\; vertical-align: baseline\; color: rgb(51\, 51\, 51)\; line-height: 18px\; font-family: Arial\, Helvetica\, sans-serif\;">&nbsp\;</p>\n\n<p style="margin: 0px\; padding: 4px 0px 10px\; border: 0px\; font-size: 14px\; vertical-align: baseline\; color: rgb(51\, 51\, 51)\; line-height: 18px\; font-family: Arial\, Helvetica\, sans-serif\;">&nbsp\;</p>\n
LOCATION:Blue Ridge Bank & Trust Co. 4200 Little Blue Parkway\, Independence\, MO 64057
UID:e.2043.5482
SEQUENCE:3
DTSTAMP:20260424T132412Z
URL:https://business.ichamber.biz/events/details/business-after-hours-blue-ridge-bank-s-60th-anniversary-10-25-2018-5482
END:VEVENT

END:VCALENDAR
