BEGIN:VCALENDAR
VERSION:2.0
PRODID:-//ChamberMaster//Event Calendar 2.0//EN
METHOD:PUBLISH
X-PUBLISHED-TTL:P3D
REFRESH-INTERVAL:P3D
CALSCALE:GREGORIAN
BEGIN:VEVENT
DTSTART:20170411T213000Z
DTEND:20170411T233000Z
X-MICROSOFT-CDO-ALLDAYEVENT:FALSE
SUMMARY:Business After Hours: CAPA
DESCRIPTION:We hope to see you at the joint event between your Independence Chamber of Commerce and CAPA for the premier of CAPA's new agency film with remarks from Jackson County Executive\, Frank White\, Jr. Thank you Laurie D. Wiley for sponsoring the food for this event! This Business After Hours will support CAPA's prevention programs for local children and families. \n\n\n\nThis event is also part of CAPA's month-long CAPAcity campaign during Child Abuse Prevention Month! For more CAPAcity events\, visit:https://www.facebook.com/pg/CAPAcityKC/events/\n\n\n\n*Business Attire with blue accents encouraged\n\n*Cash bar\n\n*Blue Ribbon Raffle\n\n*Light appetizers sponsored by Laurie D. Wiley with Waddell & Reed Financial Advisors \n\n*Live Music by Chad Abernathy \n\n*Fun
X-ALT-DESC;FMTTYPE=text/html:We hope to see you at the joint event between your Independence Chamber of Commerce and CAPA for the premier of CAPA&#39\;s new agency film with remarks from Jackson County Executive\, Frank White\, Jr. Thank you Laurie D. Wiley for sponsoring the food for this event! This&nbsp\;Business After Hours will support&nbsp\;CAPA&#39\;s&nbsp\;prevention programs for local children and families.&nbsp\;<br />\n<br />\n<span style="color: rgb(75\, 79\, 86)\;">This event is also part of CAPA&#39\;s month-long CAPAcity campaign during Child Abuse Prevention Month! For more CAPAcity events\, visit:</span><a href="https://www.facebook.com/pg/CAPAcityKC/events/" rel="nofollow" style="color: rgb(54\, 88\, 153)\; cursor: pointer\; text-decoration: none\; font-family: Helvetica\, Arial\, sans-serif\; font-size: 14px\;">https://www.facebook.com/<wbr />pg/CAPAcityKC/events/<br />\n<br />\n*Business Attire with blue accents encouraged</a><br />\n*Cash bar<br />\n*Blue Ribbon Raffle<br />\n*Light&nbsp\;appetizers sponsored by Laurie D. Wiley with Waddell &amp\; Reed Financial&nbsp\;Advisors&nbsp\;<br />\n*Live Music by Chad Abernathy&nbsp\;<br />\n*Fun&nbsp\;<br />\n&nbsp\;
LOCATION:The Pharaoh Theater on the Historic Independence Square 114 W. Maple Avenue Independence\, MO 64050
UID:e.2043.3651
SEQUENCE:3
DTSTAMP:20260424T164244Z
URL:https://business.ichamber.biz/events/details/business-after-hours-capa-04-11-2017-3651
END:VEVENT

END:VCALENDAR
