BEGIN:VCALENDAR
VERSION:2.0
PRODID:-//ChamberMaster//Event Calendar 2.0//EN
METHOD:PUBLISH
X-PUBLISHED-TTL:P3D
REFRESH-INTERVAL:P3D
CALSCALE:GREGORIAN
BEGIN:VEVENT
DTSTART:20180426T213000Z
DTEND:20180426T230000Z
X-MICROSOFT-CDO-ALLDAYEVENT:FALSE
SUMMARY:Business After Hours: CAPA
DESCRIPTION:We hope to see you at the Business After Hours for CAPA sponsored by the Kiwanis Club of Independence! This Business After Hours will support CAPA's prevention programs for local children and families. \n\n\n\nThis event is also part of CAPA's month-long CAPAcity campaign during Child Abuse Prevention Month! For more CAPAcity events\, visit:https://www.facebook.com/pg/CAPAcityKC/events/\n\n\n\n*Business Attire with blue accents encouraged\n\n*Cash bar\n\n*Blue Ribbon Raffle\n\n*Light refreshments  \n\n*Fun
X-ALT-DESC;FMTTYPE=text/html:We hope to see you at the Business After Hours for CAPA sponsored by the Kiwanis Club of Independence! This&nbsp\;Business After Hours will support&nbsp\;CAPA&#39\;s&nbsp\;prevention programs for local children and families.&nbsp\;<br />\n<br />\n<span style="color:#000000\;">This event is also part of CAPA&#39\;s month-long CAPAcity campaign during Child Abuse Prevention Month! For more CAPAcity events\, visit:</span><a href="https://www.facebook.com/pg/CAPAcityKC/events/" rel="nofollow" style="color: rgb(54\, 88\, 153)\; cursor: pointer\; text-decoration: none\; font-family: Helvetica\, Arial\, sans-serif\; font-size: 14px\;">https://www.facebook.com/<wbr />pg/CAPAcityKC/events/<br />\n<br />\n<span style="color:#000000\;">*Business Attire with blue accents encouraged</span></a><br />\n*Cash bar<br />\n*Blue Ribbon Raffle<br />\n*Light refreshments&nbsp\;&nbsp\;<br />\n*Fun&nbsp\;<br />\n&nbsp\;
LOCATION:CAPA 503 East 23rd St S\, Independence\, MO 64055 *Please park in the rear parking lot by the playground and will enter through the back door.
UID:e.2043.6267
SEQUENCE:3
DTSTAMP:20260424T055244Z
URL:https://business.ichamber.biz/events/details/business-after-hours-capa-6267
END:VEVENT

END:VCALENDAR
