BEGIN:VCALENDAR
VERSION:2.0
PRODID:-//ChamberMaster//Event Calendar 2.0//EN
METHOD:PUBLISH
X-PUBLISHED-TTL:P3D
REFRESH-INTERVAL:P3D
CALSCALE:GREGORIAN
BEGIN:VEVENT
DTSTART:20170607T213000Z
DTEND:20170607T230000Z
X-MICROSOFT-CDO-ALLDAYEVENT:FALSE
SUMMARY:Business After Hours: JG Contracting\, LLC at Vivilore
DESCRIPTION:We hope you can make it to this month's Business After Hours event at Vivilore sponsored by JG Contracting\, LLC. \nUnwind at the end of your day and strengthen your professional contacts at the same time. With its social atmosphere and quality contacts\, you can't beat this networking opportunity! \n\n*Food\n\n*Drinks\n\n*Giveaways
X-ALT-DESC;FMTTYPE=text/html:<span style="color: rgb(51\, 51\, 51)\; font-family: Arial\, sans-serif\; font-size: 13.3333px\; line-height: 20.8px\; background-color: rgb(255\, 255\, 255)\;">We hope you can make it to this month&#39\;s&nbsp\;Business After Hours event at Vivilore sponsored by JG Contracting\, LLC</span><span style="color: rgb(51\, 51\, 51)\; font-family: Arial\, sans-serif\; font-size: 13.3333px\; line-height: 20.8px\; background-color: rgb(255\, 255\, 255)\;">.&nbsp\;</span>\n<div><span style="color: rgb(51\, 51\, 51)\; font-family: Arial\, sans-serif\; font-size: 13.3333px\; line-height: 20.8px\; background-color: rgb(255\, 255\, 255)\;">Unwind at&nbsp\;the end of your day and strengthen your professional contacts at the same time.&nbsp\;With its social&nbsp\;atmosphere&nbsp\;and quality contacts\, you can&rsquo\;t beat this networking opportunity!&nbsp\;<br />\n*Food<br />\n*Drinks<br />\n*Giveaways&nbsp\;</span></div>\n
LOCATION:10815 E Winner Rd. Independence MO 64052
UID:e.2043.3200
SEQUENCE:3
DTSTAMP:20260424T141556Z
URL:https://business.ichamber.biz/events/details/business-after-hours-jg-contracting-llc-at-vivilore-06-07-2017-3200
END:VEVENT

END:VCALENDAR
