BEGIN:VCALENDAR
VERSION:2.0
PRODID:-//ChamberMaster//Event Calendar 2.0//EN
METHOD:PUBLISH
X-PUBLISHED-TTL:P3D
REFRESH-INTERVAL:P3D
CALSCALE:GREGORIAN
BEGIN:VEVENT
DTSTART:20171129T223000Z
DTEND:20171130T000000Z
X-MICROSOFT-CDO-ALLDAYEVENT:FALSE
SUMMARY:Business After Hours: KC Mavericks
DESCRIPTION:Join us for a Business After Hours event with the Kansas City Mavericks Pro Hockey team!\n\n\n\nCome unwind at the end of your day and strengthen your professional contacts at the same time. With its social atmosphere and quality contacts\, you can't beat this networking opportunity! \n\n\n\n*There will be a Raffle Drawing for an Ice Box Suite! Be sure to bring your business cards \n\n*Tickets to the game on Wednesday available while tickets last\, please call to reserve your complimentary tickets if you want to stay and enjoy the game after the Business After Hours!
X-ALT-DESC;FMTTYPE=text/html:<span style="font-family:arial\;">Join us for a Business After Hours event with the Kansas City Mavericks Pro Hockey team!</span><br style="font-family: arial\;" />\n<br />\n<span style="font-family:arial\;"><span style="line-height: 20.7999992370605px\;">Come unwind at</span><span style="line-height: 20.7999992370605px\;">&nbsp\;the end of your day and strengthen your professional contacts at the same time.&nbsp\;With its social&nbsp\;atmosphere&nbsp\;and quality contacts\, you can&#39\;t beat this networking opportunity!&nbsp\;<br />\n<br />\n*There will be a Raffle Drawing for an Ice Box Suite! Be sure to bring your business cards&nbsp\;<br />\n*Tickets to the game on Wednesday available while tickets last\, please call to reserve your complimentary tickets if you want to stay and enjoy the game after the Business After Hours!</span></span>\n<p style="color: rgb(51\, 51\, 51)\; font-family: sans-serif\, Arial\, Verdana\, 'Trebuchet MS'\; font-size: 13px\; line-height: 20.7999992370605px\;">&nbsp\;</p>\n
LOCATION:Silverstein Eye Centers Arena 19100 E Valley View Pkwy Independence\, MO 64055
UID:e.2043.5271
SEQUENCE:3
DTSTAMP:20260424T065751Z
URL:https://business.ichamber.biz/events/details/business-after-hours-kc-mavericks-11-29-2017-5271
END:VEVENT

END:VCALENDAR
