BEGIN:VCALENDAR
VERSION:2.0
PRODID:-//ChamberMaster//Event Calendar 2.0//EN
METHOD:PUBLISH
X-PUBLISHED-TTL:P3D
REFRESH-INTERVAL:P3D
CALSCALE:GREGORIAN
BEGIN:VEVENT
DTSTART:20150813T213000Z
DTEND:20150813T230000Z
X-MICROSOFT-CDO-ALLDAYEVENT:FALSE
SUMMARY:Business After Hours: Noland Plaza Office Building
DESCRIPTION:We hope you can make it to this month's Business After Hours event at Noland Plaza Offices. Unwind at the end of your day and strengthen your professional contacts at the same time. With its social atmosphere and quality contacts\, you can't beat this networking opportunity! \n\nThere will be many offices to tour. Along with a drawing for a Garmin Vivofit and the Famous Totta Sausage.
X-ALT-DESC;FMTTYPE=text/html:<p style="line-height:15.6pt"><span style="font-size:10.0pt\;font-family:&quot\;Arial&quot\;\,sans-serif\;\ncolor:#333333">We hope you can make it to this month&#39\;s&nbsp\;Business After Hours event at Noland Plaza Offices.&nbsp\;Unwind at&nbsp\;the end of your day and strengthen your professional contacts at the same time.&nbsp\;With its social&nbsp\;atmosphere&nbsp\;and quality contacts\, you can&rsquo\;t beat this networking opportunity!&nbsp\;<br />\nThere will be many offices to tour. Along with a drawing for a Garmin Vivofit and the Famous Totta Sausage.<o:p></o:p></span></p>\n
LOCATION:Noland Plaza Office Building 3675 Noland Road Independence\, MO 64055
UID:e.2043.2680
SEQUENCE:3
DTSTAMP:20260425T150616Z
URL:https://business.ichamber.biz/events/details/business-after-hours-noland-plaza-office-building-08-13-2015-2680
END:VEVENT

END:VCALENDAR
