BEGIN:VCALENDAR
VERSION:2.0
PRODID:-//ChamberMaster//Event Calendar 2.0//EN
METHOD:PUBLISH
X-PUBLISHED-TTL:P3D
REFRESH-INTERVAL:P3D
CALSCALE:GREGORIAN
BEGIN:VEVENT
DTSTART:20161103T210000Z
DTEND:20161103T230000Z
X-MICROSOFT-CDO-ALLDAYEVENT:FALSE
SUMMARY:Business After Hours: Progressive Party
DESCRIPTION:In the midst of the upcoming election\, we invite you to come \n\n"Support the Progressive Party"!\n\nJoin us at the chamber along with the Independence EDC for the 4th Annual Progressive Party- Election Edition.\n\n\n\nEach Chamber office will be showcasing different businesses along with a food and drink from one of our Independence restaurants!\n\nBe sure to stop in and enjoy this "Support the Progressive Party" event - and bring a friend!!
X-ALT-DESC;FMTTYPE=text/html:In the midst of the upcoming election\, we invite you to come&nbsp\;<br />\n&quot\;Support the Progressive Party&quot\;!<br />\nJ<span style="color: rgb(51\, 51\, 51)\; font-family: sans-serif\, Arial\, Verdana\, &quot\;Trebuchet MS&quot\;\; font-size: 13px\; background-color: rgb(255\, 255\, 255)\;">oin</span><span style="color: rgb(51\, 51\, 51)\; font-family: sans-serif\, Arial\, Verdana\, &quot\;Trebuchet MS&quot\;\; font-size: 13px\; background-color: rgb(255\, 255\, 255)\;"> us at the chamber along with the Independence&nbsp\;EDC for the <strong>4th</strong></span><strong style="color: rgb(51\, 51\, 51)\; font-family: sans-serif\, Arial\, Verdana\, &quot\;Trebuchet MS&quot\;\; font-size: 13px\;"><strong>&nbsp\;</strong>Annual Progressive Party- Election Edition.</strong><br style="color: rgb(51\, 51\, 51)\; font-family: sans-serif\, Arial\, Verdana\, &quot\;Trebuchet MS&quot\;\; font-size: 13px\;" />\n<br style="color: rgb(51\, 51\, 51)\; font-family: sans-serif\, Arial\, Verdana\, &quot\;Trebuchet MS&quot\;\; font-size: 13px\;" />\n<span style="color: rgb(51\, 51\, 51)\; font-family: sans-serif\, Arial\, Verdana\, &quot\;Trebuchet MS&quot\;\; font-size: 13px\; background-color: rgb(255\, 255\, 255)\;">Each Chamber office will be showcasing different businesses along with a food and drink from one of our Independence restaurants!<br />\nBe sure to stop in and enjoy this &quot\;Support the Progressive Party&quot\; event -&nbsp\;</span><strong style="color: rgb(51\, 51\, 51)\; font-family: sans-serif\, Arial\, Verdana\, &quot\;Trebuchet MS&quot\;\; font-size: 13px\;">and bring a friend!!</strong>
LOCATION:Chamber of Commerce 210 W Truman Rd. Independence MO 64050
UID:e.2043.3584
SEQUENCE:3
DTSTAMP:20260424T233848Z
URL:https://business.ichamber.biz/events/details/business-after-hours-progressive-party-11-03-2016-3584
END:VEVENT

END:VCALENDAR
