BEGIN:VCALENDAR
VERSION:2.0
PRODID:-//ChamberMaster//Event Calendar 2.0//EN
METHOD:PUBLISH
X-PUBLISHED-TTL:P3D
REFRESH-INTERVAL:P3D
CALSCALE:GREGORIAN
BEGIN:VEVENT
DTSTART:20151105T220000Z
DTEND:20151106T003000Z
X-MICROSOFT-CDO-ALLDAYEVENT:FALSE
SUMMARY:Business After Hours: Progressive Party Anniversary Edition
DESCRIPTION:Join us at the chamber along with the Independence EDC for the 3rd Annual Progressive Party- Anniversary Edition celebrating the 20th birthday of the Chamber building!\n\n\n\nAlong with the Chamber many of our Independence businesses are having milestone anniversaries. In each Chamber office there will be a business celebrating a milestone along with a food and drink from one of our Independence restaurants! Be sure to stop in and enjoy this progressive-party style event - and bring a friend!!\n\n\n\nClick here to register!\n\n\n\nCheck out photos from last year!
X-ALT-DESC;FMTTYPE=text/html:Join us at the chamber along with the Independence&nbsp\;EDC for the <strong>3rd Annual Progressive Party- Anniversary Edition c</strong>elebrating the 20th birthday of the&nbsp\;Chamber building!<br />\n<br />\nAlong with the Chamber many of our Independence businesses are having milestone anniversaries. In each Chamber office there will be a&nbsp\;business celebrating a milestone along with a food and drink from one of our Independence restaurants! Be sure to stop in and enjoy this progressive-party style event - <strong>and bring a friend!!</strong><br />\n<br />\n<a href="https://progressiveparty2015.eventbrite.com">Click here to register!</a><br />\n<br />\n<a href="https://www.facebook.com/media/set/?set=a.1004150506277159.1073741871.114513531907532&amp\;type=3">Check out photos from last year!</a>
LOCATION:210 W Truman Rd. Independence MO 64050
UID:e.2043.2705
SEQUENCE:3
DTSTAMP:20260425T112843Z
URL:https://business.ichamber.biz/events/details/business-after-hours-progressive-party-anniversary-edition-11-05-2015-2705
END:VEVENT

END:VCALENDAR
