BEGIN:VCALENDAR
VERSION:2.0
PRODID:-//ChamberMaster//Event Calendar 2.0//EN
METHOD:PUBLISH
X-PUBLISHED-TTL:P3D
REFRESH-INTERVAL:P3D
CALSCALE:GREGORIAN
BEGIN:VEVENT
DTSTART:20161006T213000Z
DTEND:20161006T233000Z
X-MICROSOFT-CDO-ALLDAYEVENT:FALSE
SUMMARY:Business After Hours sponsored by Speaks Family Legacy Chapels
DESCRIPTION:Join us for this month's Business After Hours held at the Courthouse Exchange Outdoor Patio sponsored by Speaks Family Legacy Chapels. \n\nThis event will also be celebrating the 80th Anniversary of Speaks Family Legacy Chapels serving the community.\n\nCome and enjoy a cocktail party with great hor d'oeuvres and a String Quartet playing.
X-ALT-DESC;FMTTYPE=text/html:Join us for this month&#39\;s Business After Hours held at the Courthouse Exchange Outdoor Patio sponsored by Speaks Family Legacy Chapels.&nbsp\;<br />\nThis event will also be celebrating the 80th Anniversary of Speaks Family Legacy Chapels serving the community.<br />\nCome and enjoy a cocktail party with great hor d&#39\;oeuvres and a String Quartet playing.
LOCATION:113 W Lexington Ave Independence MO 64050
UID:e.2043.3536
SEQUENCE:3
DTSTAMP:20260425T005538Z
URL:https://business.ichamber.biz/events/details/business-after-hours-sponsored-by-speaks-family-legacy-chapels-10-06-2016-3536
END:VEVENT

END:VCALENDAR
