BEGIN:VCALENDAR
VERSION:2.0
PRODID:-//ChamberMaster//Event Calendar 2.0//EN
METHOD:PUBLISH
X-PUBLISHED-TTL:P3D
REFRESH-INTERVAL:P3D
CALSCALE:GREGORIAN
BEGIN:VEVENT
DTSTART:20171026T213000Z
DTEND:20171026T230000Z
X-MICROSOFT-CDO-ALLDAYEVENT:FALSE
SUMMARY:Business After Hours: Stewardship Capital Celebrates 20th Anniversary
DESCRIPTION:We hope you can make it to the Business After Hours event sponsored by Stewardship Capital to help them celebrate their 20th Anniversary that will be at Drumm Farm! \n\n*Food\n\n*Fun\n\n*Raffle Drawing \n\n\n\nUnwind at the end of your day and strengthen your professional contacts at the same time. With its social atmosphere and quality contacts\, you can't beat this networking opportunity! Take a moment to register so we can plan accordingly.
X-ALT-DESC;FMTTYPE=text/html:<p style="margin: 0px\; padding: 4px 0px 10px\; border: 0px\; font-size: 14px\; vertical-align: baseline\; color: rgb(51\, 51\, 51)\; line-height: 18px\; font-family: Arial\, Helvetica\, sans-serif\;"><span style="font-size:14px\;">We hope you can make it to the&nbsp\;Business After Hours event sponsored by Stewardship Capital to help them celebrate their 20th Anniversary that will be at Drumm&nbsp\;Farm!&nbsp\;<br />\n*Food<br />\n*Fun<br />\n*Raffle Drawing&nbsp\;<br />\n<br />\nUnwind at the end of your day and strengthen your professional contacts at the same time.&nbsp\;With its social&nbsp\;atmosphere&nbsp\;and quality contacts\, you can&#39\;t beat this networking opportunity! Take a moment to&nbsp\;register&nbsp\;so we can plan accordingly.</span></p>\n\n<p style="margin: 0px\; padding: 4px 0px 10px\; border: 0px\; font-size: 14px\; vertical-align: baseline\; color: rgb(51\, 51\, 51)\; line-height: 18px\; font-family: Arial\, Helvetica\, sans-serif\;">&nbsp\;</p>\n
LOCATION:Drumm Farm (Farmer's Market Area) 3210 S Lees Summit Rd Independence\, MO 64055
UID:e.2043.4958
SEQUENCE:3
DTSTAMP:20260424T083653Z
URL:https://business.ichamber.biz/events/details/business-after-hours-stewardship-capital-celebrates-20th-anniversary-10-26-2017-4958
END:VEVENT

END:VCALENDAR
