BEGIN:VCALENDAR
VERSION:2.0
PRODID:-//ChamberMaster//Event Calendar 2.0//EN
METHOD:PUBLISH
X-PUBLISHED-TTL:P3D
REFRESH-INTERVAL:P3D
CALSCALE:GREGORIAN
BEGIN:VEVENT
DTSTART:20160811T213000Z
DTEND:20160811T230000Z
X-MICROSOFT-CDO-ALLDAYEVENT:FALSE
SUMMARY:Business After Hours: Vaile Mansion
DESCRIPTION:We hope you can make it to this month's Business After Hours event at Vaile Mansion. \n\nUnwind at the end of your day and strengthen your professional contacts at the same time. With its social atmosphere and quality contacts\, you can't beat this networking opportunity!
X-ALT-DESC;FMTTYPE=text/html:<span style="color: rgb(51\, 51\, 51)\; font-family: Arial\, sans-serif\; font-size: 13.3333px\; line-height: 20.8px\; background-color: rgb(255\, 255\, 255)\;">We hope you can make it to this month&#39\;s&nbsp\;Business After Hours event at Vaile Mansion</span><span style="color: rgb(51\, 51\, 51)\; font-family: Arial\, sans-serif\; font-size: 13.3333px\; line-height: 20.8px\; background-color: rgb(255\, 255\, 255)\;">.&nbsp\;</span>\n\n<div><span style="color: rgb(51\, 51\, 51)\; font-family: Arial\, sans-serif\; font-size: 13.3333px\; line-height: 20.8px\; background-color: rgb(255\, 255\, 255)\;">Unwind at&nbsp\;the end of your day and strengthen your professional contacts at the same time.&nbsp\;With its social&nbsp\;atmosphere&nbsp\;and quality contacts\, you can&rsquo\;t beat this networking opportunity!&nbsp\;</span></div>\n
LOCATION:1500 N Liberty Independence MO 64050
UID:e.2043.3201
SEQUENCE:3
DTSTAMP:20260425T025845Z
URL:https://business.ichamber.biz/events/details/business-after-hours-vaile-mansion-08-11-2016-3201
END:VEVENT

END:VCALENDAR
