BEGIN:VCALENDAR
VERSION:2.0
PRODID:-//ChamberMaster//Event Calendar 2.0//EN
METHOD:PUBLISH
X-PUBLISHED-TTL:P3D
REFRESH-INTERVAL:P3D
CALSCALE:GREGORIAN
BEGIN:VEVENT
DTSTART:20181106T223000Z
DTEND:20181107T003000Z
X-MICROSOFT-CDO-ALLDAYEVENT:FALSE
SUMMARY:Business After Hours with the KC Mavericks
DESCRIPTION:Join us for a Business After Hours event with the Kansas City Mavericks Pro Hockey team!\n\n\n\nCome unwind at the end of your day and strengthen your professional contacts at the same time. With its social atmosphere and quality contacts\, you can't beat this networking opportunity! \n\n\n\n*There will be a Raffle Drawing for an Ice Box Suite! Be sure to bring your business cards \n\n*Tickets to the game will available while tickets last if you want to stay and enjoy the game after the Business After Hours!\n\n*PLEASE RSVP so we can plan for tickets accordingly\n\n*You will get your tickets at the Business After Hours before the game
X-ALT-DESC;FMTTYPE=text/html:<span style="font-family:arial\;">Join us for a Business After Hours event with the Kansas City Mavericks Pro Hockey team!</span><br style="font-family: arial\;" />\n<br />\n<span style="font-family:arial\;"><span style="line-height: 20.7999992370605px\;">Come unwind at&nbsp\;the end of your day and strengthen your professional contacts at the same time.&nbsp\;With its social&nbsp\;atmosphere&nbsp\;and quality contacts\, you can&#39\;t beat this networking opportunity!&nbsp\;<br />\n<br />\n*</span>There will be a Raffle Drawing for an Ice Box Suite! Be sure to bring your business cards&nbsp\;<br />\n<span style="line-height: 20.7999992370605px\;">*Tickets to the game will available while tickets last if you want to stay and enjoy the game after the Business After Hours!<br />\n*PLEASE RSVP so we can plan for tickets accordingly<br />\n*You will get your tickets at the Business After Hours before the game&nbsp\;</span></span>\n<p style="color: rgb(51\, 51\, 51)\; font-family: sans-serif\, Arial\, Verdana\, 'Trebuchet MS'\; font-size: 13px\; line-height: 20.7999992370605px\;">&nbsp\;</p>\n
LOCATION:Silverstein Eye Centers Arena 19100 E Valley View Pkwy Independence\, MO 64055
UID:e.2043.8308
SEQUENCE:3
DTSTAMP:20260424T144044Z
URL:https://business.ichamber.biz/events/details/business-after-hours-with-the-kc-mavericks-8308
END:VEVENT

END:VCALENDAR
