BEGIN:VCALENDAR
VERSION:2.0
PRODID:-//ChamberMaster//Event Calendar 2.0//EN
METHOD:PUBLISH
X-PUBLISHED-TTL:P3D
REFRESH-INTERVAL:P3D
CALSCALE:GREGORIAN
BEGIN:VEVENT
DTSTART:20170426T123000Z
DTEND:20170426T140000Z
X-MICROSOFT-CDO-ALLDAYEVENT:FALSE
SUMMARY:Business Before Hours
DESCRIPTION:Adams Mark Hotel - Business Before Hours is a free event for our members. It gives them a chance to mingle and network before work. There will be coffee/juice and a continental breakfast provided.
X-ALT-DESC;FMTTYPE=text/html:Adams Mark Hotel - Business Before Hours is a free event for our members. It gives them a chance to mingle and network before work. There will be coffee/juice and a continental breakfast provided.
LOCATION:Adams Mark Hotel 9103 E 39th Street Kansas City\, MO 64133 Foyer of the Grand Ballroom
UID:e.2043.4299
SEQUENCE:3
DTSTAMP:20260424T164331Z
URL:https://business.ichamber.biz/events/details/business-before-hours-04-26-2017-4299
END:VEVENT

END:VCALENDAR
