BEGIN:VCALENDAR
VERSION:2.0
PRODID:-//ChamberMaster//Event Calendar 2.0//EN
METHOD:PUBLISH
X-PUBLISHED-TTL:P3D
REFRESH-INTERVAL:P3D
CALSCALE:GREGORIAN
BEGIN:VEVENT
DTSTART:20170628T123000Z
DTEND:20170628T140000Z
X-MICROSOFT-CDO-ALLDAYEVENT:FALSE
SUMMARY:Business Before Hours
DESCRIPTION:Business Before Hours is a free event for our members. It gives them a chance to mingle and network before work. There will be coffee/juice and a continental breakfast provided.
X-ALT-DESC;FMTTYPE=text/html:<span style="font-size:14px\;"><span style="font-family:arial\;"><span style="color: rgb(0\, 0\, 0)\;">Business Before Hours is a free event for our members. It gives them a chance to mingle and network before work. There will be coffee/juice and a continental breakfast provided.</span></span></span>
LOCATION:Centerpoint Medical Center 19600 East 39th St S Independence\, MO 64057 *Enter through the main entrance and turn left at the front desk. Pass same-day surgery into a long hallway and the auditorium is on your right.
UID:e.2043.4300
SEQUENCE:3
DTSTAMP:20260424T141302Z
URL:https://business.ichamber.biz/events/details/business-before-hours-06-28-2017-4300
END:VEVENT

END:VCALENDAR
