BEGIN:VCALENDAR
VERSION:2.0
PRODID:-//ChamberMaster//Event Calendar 2.0//EN
METHOD:PUBLISH
X-PUBLISHED-TTL:P3D
REFRESH-INTERVAL:P3D
CALSCALE:GREGORIAN
BEGIN:VEVENT
DTSTART:20160928T123000Z
DTEND:20160928T140000Z
X-MICROSOFT-CDO-ALLDAYEVENT:FALSE
SUMMARY:Business Before Hours
DESCRIPTION:Jump start your morning with a fun new business networking opportunity for our early risers.\n\nJoin us at Main Event for a continental breakfast and coffee.
X-ALT-DESC;FMTTYPE=text/html:<span style="font-size:14px\;"><span style="font-family:arial\;"><span style="color: rgb(18\, 18\, 18)\; line-height: 25.5px\; background-color: rgb(255\, 255\, 255)\;">Jump start your morning with a fun&nbsp\;</span><strong style="box-sizing: border-box\; color: rgb(18\, 18\, 18)\; font-family: &quot\;Open Sans&quot\;\, sans-serif\; font-size: 15px\; line-height: 25.5px\; background-color: rgb(255\, 255\, 255)\;">new&nbsp\;</strong><span style="color: rgb(18\, 18\, 18)\; line-height: 25.5px\; background-color: rgb(255\, 255\, 255)\;">business networking opportunity&nbsp\;</span>for our early risers.<br />\nJoin us at Main Event for a continental breakfast and coffee.</span></span>
LOCATION:The Main Event 4600 S Cochise Ct Independence MO
UID:e.2043.3581
SEQUENCE:3
DTSTAMP:20260425T015202Z
URL:https://business.ichamber.biz/events/details/business-before-hours-09-28-2016-3581
END:VEVENT

END:VCALENDAR
