BEGIN:VCALENDAR
VERSION:2.0
PRODID:-//ChamberMaster//Event Calendar 2.0//EN
METHOD:PUBLISH
X-PUBLISHED-TTL:P3D
REFRESH-INTERVAL:P3D
CALSCALE:GREGORIAN
BEGIN:VEVENT
DTSTART:20171019T123000Z
DTEND:20171019T140000Z
X-MICROSOFT-CDO-ALLDAYEVENT:FALSE
SUMMARY:Business Before Hours
DESCRIPTION:Come join us for Business Before Hours at the Rehabilitation Center of Independence!\n\n\n\nThis is a free event for our members. It gives them a chance to mingle and network before work. There will be coffee/juice and a continental breakfast provided.\n\n*RAFFLE DRAWING
X-ALT-DESC;FMTTYPE=text/html:<span style="color: rgb(0\, 0\, 0)\; font-family: arial\; font-size: 14px\;">Come join us for Business Before Hours at the Rehabilitation Center of Independence!<br />\n<br />\nThis is a free event for our members. It gives them a chance to mingle and network before work. There will be coffee/juice and a continental breakfast provided.<br />\n*RAFFLE DRAWING</span>
LOCATION:Rehabilitation Center of Independence 1800 S. Swope Dr. Independence\, MO 64057
UID:e.2043.4302
SEQUENCE:3
DTSTAMP:20260424T075748Z
URL:https://business.ichamber.biz/events/details/business-before-hours-10-19-2017-4302
END:VEVENT

END:VCALENDAR
