BEGIN:VCALENDAR
VERSION:2.0
PRODID:-//ChamberMaster//Event Calendar 2.0//EN
METHOD:PUBLISH
X-PUBLISHED-TTL:P3D
REFRESH-INTERVAL:P3D
CALSCALE:GREGORIAN
BEGIN:VEVENT
DTSTART:20190328T123000Z
DTEND:20190328T140000Z
X-MICROSOFT-CDO-ALLDAYEVENT:FALSE
SUMMARY:Business Before Hours
DESCRIPTION:We hope you can join us for Business Before Hours with Laurie Dean Wiley\, Financial Advisor of Justin Larkin! This is a free event for our members. It gives them a chance to mingle and network before work. There will be coffee\, juice\, fruit\, and breakfast sandwiches provided.
X-ALT-DESC;FMTTYPE=text/html:<span style="font-size:14px\;"><span style="font-family:arial\;">We hope you can join us for Business Before Hours with Laurie Dean Wiley\, Financial Advisor of Justin Larkin! This is a free event for our members. It gives them a chance to mingle and network before work. There will be coffee\, juice\, fruit\, and breakfast sandwiches provided.</span></span>
LOCATION:Waddell & Reed Financial Advisors (at Blue Ridge Bank)
UID:e.2043.8348
SEQUENCE:3
DTSTAMP:20260424T200102Z
URL:https://business.ichamber.biz/events/details/business-before-hours-8348
END:VEVENT

END:VCALENDAR
