BEGIN:VCALENDAR
VERSION:2.0
PRODID:-//ChamberMaster//Event Calendar 2.0//EN
METHOD:PUBLISH
X-PUBLISHED-TTL:P3D
REFRESH-INTERVAL:P3D
CALSCALE:GREGORIAN
BEGIN:VEVENT
DTSTART:20190725T123000Z
DTEND:20190725T140000Z
X-MICROSOFT-CDO-ALLDAYEVENT:FALSE
SUMMARY:Business Before Hours
DESCRIPTION:Prosource Wholesale in Lee's Summit is inviting you to their showroom for breakfast! There will be an amazing assortment of home improvement products\, members to network with\, and most importantly\, coffee and continental breakfast!
X-ALT-DESC;FMTTYPE=text/html:<span style="font-size:14px\;"><span style="font-family:arial\;">Prosource Wholesale in Lee&#39\;s Summit is inviting you to their showroom for breakfast! There will be an amazing assortment of home improvement products\, members to network with\, and most importantly\, coffee and continental breakfast!&nbsp\;</span></span>
LOCATION:Prosource Wholesale 1150 SE Century Drive Lee's Summit\, MO 64081
UID:e.2043.8357
SEQUENCE:3
DTSTAMP:20260425T010343Z
URL:https://business.ichamber.biz/events/details/business-before-hours-8357
END:VEVENT

END:VCALENDAR
